Workbook

Sheet Cover Page
A1: 2026 WESTERN PROVINCE ATHLETICS CROSS COUNTRY LEAGUE
A2: CROSS COUNTRY LEAGUE 1 - SILVERSTREAM RESORT
A3: 45794
A5: The Cross Country 1st League, was hosted by Velocity AC.
A6: Thank you to velocity AC for a fun day out! The bar is surely set high now!
A7: The races were contended over a grass and gravel course with plenty of turns to test the athletes' cross country skills.
A8: Sunny skies brought plenty runners out of mini-hibernation for this event, with only a breeze to cool the action down.
A11: Please make sure that you have the correct race card for the event you are entering.
A13: Please compete in your ASA licence numbers and club colours. The numbers must be worn at each league
A14: meeting and must be written on your entry card.
A16: Please note: TO BE ELIGIBLE FOR TEAM SELECTION YOU MUST BE LICENCED
A18: 1. All Junior 13 AND OLDER athletes have to wear licence numbers
A19: Those athletes who do not belong to a club must buy a temporary licence at the entry table, when entering.
A20: 2. Please complete all the info on the racecard clearly.
A21: 3. Master athletes must also wear their age category tags.
... A23: The next Cross Country event will be at Willowbridge on 30 May 2026, where WCIR will be our hosts.

Sheet SENIOR MEN10
A1: ='Cover Page'!A2 -> CROSS COUNTRY LEAGUE 1 - SILVERSTREAM RESORT
A2: ='Cover Page'!A3 -> 45794
A3: Senior Men 10km
A5: POSITION | B5: FIRST NAME | C5: SURNAME | D5: CLUB | E5: TIME | F5: RACE | G5: Km | H5: LICENCE NO
A6: 1 | B6: RICO | C6: VAN DER HORST | D6: CELTIC | E6: 31:13 | F6: SM | G6: 10 | H6: 4135
A7: 2 | B7: KEATON | C7: LOTT | D7: ELSIESRIVER | E7: 31:40 | F7: SM | G7: 10 | H7: 5734
A8: 3 | B8: LINATHI | C8: NOBATANA | D8: KHAYELITSHA | E8: 32:25 | F8: SM | G8: 10 | H8: 7598
A9: 4 | B9: ASHLEY | C9: DAVIDS | E9: 32:29 | F9: SM | G9: 10 | H9: 4132
A10: 5 | B10: LUTHABO | C10: MPONGWANA | D10: GO TYMEBANK RC | E10: 32:49 | F10: SM | G10: 10 | H10: 15260
A11: 6 | B11: SIKHANYISO | C11: MAJEKE | D11: NEDBANK | E11: 33:33 | F11: SM | G11: 10 | H11: 13351
A12: 7 | B12: NASHVILLE | C12: HOFMEESTER | D12: UWC | E12: 33:58 | F12: SM | G12: 10 | H12: 12991
A13: 8 | B13: SAGINI | C13: TITUS | D13: CELTIC | E13: 34:15 | F13: SM | G13: 10 | H13: 3893
A14: 9 | B14: GERSWIN | C14: VAN STADEN | D14: ELSIESRIVER | E14: 34:32 | F14: SM | G14: 10 | H14: 5730
A15: 10 | B15: CURTIS | C15: BOOYSEN | D15: ELSIESRIVER | E15: 34:34 | F15: SM | G15: 10 | H15: 5729
A16: 11 | B16: WARREN | C16: HEFKE | D16: UWC | E16: 34:37 | F16: SM | G16: 10 | H16: 12989
A17: 12 | B17: CALVIN | C17: HAMMOND | D17: PINELANDS | E17: 35:27 | F17: SM | G17: 10 | H17: 2622
A18: 13 | B18: MIGUEL | C18: COOPER | D18: WCIR | E18: 35:35 | F18: SM | G18: 10 | H18: 14085
A19: 14 | B19: JAAELE | C19: BROWN | D19: TSVOB | E19: 35:41 | F19: SM | G19: 10 | H19: 1541
A20: 15 | B20: KWANELE | C20: THADABANTU | D20: LWANDLE AC | E20: 36:23 | F20: SM | G20: 10 | H20: 14240
A21: 16 | B21: JOHNATHAN | C21: SMIT | D21: BOTTELARY | E21: 37:52 | F21: SM | G21: 10 | H21: 15165
A22: 17 | B22: FABIO | C22: GALOTTA | D22: VITALITY | E22: 38:41 | F22: SM | G22: 10 | H22: 8671
A23: 18 | B23: ELVINO | C23: WILLIAMS | D23: ELSIESRIVER | E23: 41:23 | F23: SM | G23: 10 | H23: T29524
A24: 19 | B24: SERGIO | C24: JANTJIES | D24: NEDBANK | E24: 41:47 | F24: SM | G24: 10 | H24: 15871
A25: 20 | B25: ZANE | C25: VAN ZYL | D25: WESTCOAST | E25: 43:05 | F25: SM | G25: 10 | H25: 6660
A26: 21 | B26: SHANE | C26: HENDRICKS | D26: CASUARINA | E26: 43:51 | F26: SM | G26: 10 | H26: 13303
A27: 22 | B27: RUDOLF | C27: ROSSOUW | D27: WILD RUNNER AC | E27: 44:21 | F27: SM | G27: 10 | H27: 12933
A28: 23 | B28: HANI | C28: MAKANDA | D28: UCT | E28: 45:21 | F28: SM | G28: 10 | H28: 12789
A29: 24 | B29: CHANNEY | C29: EDWINS | D29: EASTERN KRAAIFONTEIN | E29: 45:48 | F29: SM | G29: 10 | H29: 7629
A30: 25 | B30: ROCHEN | C30: DEELIE | D30: EASTERN KRAAIFONTEIN | E30: 46:14 | F30: SM | G30: 10 | H30: 7626
A31: 26 | B31: LAMBERT | C31: GREEFF | D31: FISH HOEK | E31: 49:19 | F31: SM | G31: 10 | H31: 6291
A32: 27 | B32: ZOLISA | C32: JUBA | D32: SANDF | E32: 49:26 | F32: SM | G32: 10 | H32: 7999
A33: 28 | B33: WEGUO | C33: REN | D33: WESTCOAST | E33: 49:41 | F33: SM | G33: 10 | H33: 6665
A34: 29 | B34: CYRIL | C34: MAY | D34: NANTES | E34: 50:20 | F34: SM | G34: 10 | H34: 5553
A35: 30 | B35: JASON | C35: DUFF | D35: EDGEMEAD | E35: 51:57 | F35: SM | G35: 10 | H35: 145
... A48: 43 | B48: EDGAR | C48: JULIES | D48: PINELANDS | E48: 1:01:26 | F48: SM | G48: 10 | H48: 2611
A49: 44 | B49: GCINIKAYA | C49: DLODLE | D49: PINELANDS | E49: 0.045127315 | F49: SM | G49: 10 | H49: 2874
A50: 45 | B50: KERWIN | C50: WILLIAMS | D50: PINELANDS | E50: 0.04556713 | F50: SM | G50: 10 | H50: 2947
A51: 46 | B51: LESTER | C51: PILLAY | D51: PINELANDS | E51: 0.059050926 | F51: SM | G51: 10 | H51: 2780

Sheet SENIOR WOMEN10
A1: ='Cover Page'!A2 -> CROSS COUNTRY LEAGUE 1 - SILVERSTREAM RESORT
A2: =+'Cover Page'!A3 -> 45794
A3: Senior Women 10km
A5: POSITION | B5: FIRST NAME | C5: SURNAME | D5: CLUB | E5: TIME | F5: RACE | G5: Km | H5: LICENCE NO
A6: 1 | B6: KIMARA | C6: SOLMS | D6: NEDBANK | E6: 40:11 | F6: SW | G6: 10 | H6: 1932
A7: 2 | B7: HLUMISA | C7: BUKANI | D7: UWC | E7: 42:09 | F7: SW | G7: 10 | H7: 12976
A8: 3 | B8: NICOLENE | C8: FARAO | D8: EASTERN KRAAIFONTEIN | E8: 44:27 | F8: SW | G8: 10 | H8: 7619
A9: 4 | B9: NANCY | C9: WILL | D9: PINELANDS | E9: 57:17 | F9: SW | G9: 10 | H9: 2652
A10: 5 | B10: NOBUNTU | C10: MGQOBOKA | D10: RCS GUGS | E10: 1:02:46 | F10: SW | G10: 10 | H10: 54
A11: 6 | B11: JULIE | C11: FRITZ | D11: EASTERN KRAAIFONTEIN | E11: 0.04380787 | F11: SW | G11: 10 | H11: 7621
A12: 7 | B12: ANTHEA | C12: KISHER | D12: EASTERN KRAAIFONTEIN | E12: 0.044907407 | F12: SW | G12: 10 | H12: 7606
A13: 8 | B13: ANTHEA | C13: GANGER | D13: TOPFOARM | E13: 0.044965278 | F13: SW | G13: 10 | H13: 10667
A14: 9 | B14: HELEN | C14: DOWNING | D14: PINELANDS | E14: 0.045428241 | F14: SW | G14: 10 | H14: 2674
A15: 10 | B15: JOHANDIE | C15: DE KOCK | D15: BELVILLE | E15: 0.048935185 | F15: SW | G15: 10 | H15: 15484
A16: 11 | B16: CYNTHIA | C16: JOOSTE | D16: BRACKENFELL | E16: 0.048946759 | F16: SW | G16: 10 | H16: 4309
A17: 12 | B17: DELYSE | C17: RIST | D17: PINELANDS | E17: 0.049675926 | F17: SW | G17: 10 | H17: 2662
A18: 13 | B18: LISA | C18: PILLAY | D18: PINELANDS | E18: 0.052175926 | F18: SW | G18: 10 | H18: 2783
A19: 14 | B19: LEE-ANN | C19: HARRIS | D19: PINELANDS | E19: 0.052256944 | F19: SW | G19: 10 | H19: 3003
A20: 15 | B20: MELANY | C20: DU PLESSIS | D20: PINELANDS | E20: 0.052280093 | F20: SW | G20: 10 | H20: 2621
A21: 16 | B21: MAVIS | C21: JULIES | D21: PINELANDS | E21: 0.052314815 | F21: SW | G21: 10 | H21: 2625
A22: 17 | B22: COLLEEN | C22: CROSS | D22: EDGEMEAD | E22: 0.053796296 | F22: SW | G22: 10 | H22: 3377
A23: 18 | B23: TOUGIEDA | C23: ALLIE | D23: ITHEKO | E23: 1:29:03 | F23: SW | G23: 10 | H23: 664
A24: 19 | B24: MARIAM | C24: ELISSAC | D24: ITHEKO | E24: 0.064247685 | F24: SW | G24: 10 | H24: 561

Sheet JUNIOR MEN
A1: ='Cover Page'!A2 -> CROSS COUNTRY LEAGUE 1 - SILVERSTREAM RESORT
A2: =+'Cover Page'!A3 -> 45794
A3: Junior Men 8km
A5: POSITION | B5: FIRST NAME | C5: SURNAME | D5: CLUB | E5: TIME | F5: RACE | G5: Km | H5: LICENCE NO
A6: 1 | B6: BEAUTIN | C6: VAN DER WESTHUZEN | D6: EERSTERIVER | E6: 25:04 | F6: JM | G6: 8 | H6: 18
A7: 2 | B7: TEBOGO | C7: WITBOOI | D7: EERSTERIVER | E7: 25:08 | F7: JM | G7: 8 | H7: J40901
A8: 3 | B8: THABO | C8: SOLANI | D8: ATC | E8: 25:43 | F8: JM | G8: 8 | H8: J41070
A9: 4 | B9: ISAIAH | C9: ARRIES | D9: ELSIESRIVER | E9: 26:44 | F9: JM | G9: 8 | H9: J40688
A10: 5 | B10: DAVANTE | C10: DANIELS | D10: EASTERNS KRAAIFONTEIN | E10: 27:03 | F10: JM | G10: 8 | H10: 41271
A11: 6 | B11: DUWAYNE | C11: VAN ROOI | D11: WCIR | E11: 27:32 | F11: JM | G11: 8 | H11: J40739
A12: 7 | B12: YONELA | C12: GQAGQA | D12: ATC | E12: 27:40 | F12: JM | G12: 8 | H12: T29521
A13: 8 | B13: RUWANDRE | C13: BROWN | D13: EERSTERIVER | E13: 28:03 | F13: JM | G13: 8 | H13: J40332
A14: 9 | B14: THURSTAN | C14: SERYNERS | D14: KUILSRIVIER | E14: 28:24 | F14: JM | G14: 8 | H14: 40027
A15: 10 | B15: LEATHAN | C15: CUPIDO | D15: EDGEMEAD | E15: 28:43 | F15: JM | G15: 8 | H15: J40210
A16: 11 | B16: FERNANDO | C16: HENKEMAN | D16: EERSTERIVER | E16: 28:51 | F16: JM | G16: 8 | H16: J40333
A17: 12 | B17: DONTE | C17: SKIPPERS | D17: VELOCITY | E17: 28:52 | F17: JM | G17: 8 | H17: J40718
A18: 13 | B18: THULANI | C18: BENJAMIN | E18: 28:54 | F18: JM | G18: 8 | H18: J40359
A19: 14 | B19: MELVIN | C19: FARAO | D19: VELOCITY | E19: 29:11 | F19: JM | G19: 8 | I19: DQ-No Licence
A20: 15 | B20: BRONWIN | C20: WILLIAMS | D20: EERSTERIVER | E20: 29:18 | F20: JM | G20: 8 | H20: J40467
A21: 16 | B21: JAIDEN | C21: OPPERMAN | D21: EERSTERIVER | E21: 29:21 | F21: JM | G21: 8 | H21: J40466
A22: 17 | B22: ASAKHE | C22: MBATSA | D22: TSVOB | E22: 29:30 | F22: JM | G22: 8 | H22: 40018
A23: 18 | B23: RAYDEN | C23: FORTUNE | D23: UWC | E23: 30:14 | F23: JM | G23: 8 | I23: DQ-No Licence
A24: 19 | B24: VENTINO | C24: HENDRICKS | D24: CASUARINA | E24: 30:32 | F24: JM | G24: 8 | H24: J411279
A25: 20 | B25: TINO | C25: VAN DERSCHOLT | D25: EERSTERIVER | E25: 31:12 | F25: JM | G25: 8 | H25: T29503
A26: 21 | B26: JAMAINE | C26: SWARTZ | D26: NEDBANK | E26: 31:15 | F26: JM | G26: 8 | H26: 40663
A27: 22 | B27: THERLO | C27: VAN DER SCHOLTZ | D27: EERSTERIVER | E27: 31:50 | F27: JM | G27: 8 | H27: 29504
A28: 23 | B28: LYSANDER | C28: DYLE | D28: RCS GUGS | E28: 32:28 | F28: JM | G28: 8 | H28: J40911
A29: 24 | B29: MAX | C29: SAUGELA | D29: RCS GUGS | E29: 32:56 | F29: JM | G29: 8 | H29: J41223
A30: 25 | B30: ETHAN | C30: ROSSER | D30: BELLVILLE | E30: 33:43 | F30: JM | G30: 8 | H30: J41242
A31: 26 | B31: KHALIL | C31: WINGROVE | D31: UWC | E31: 34:23 | F31: JM | G31: 8 | H31: J41085
A32: 27 | B32: RAFIQ | C32: ELY | E32: 35:37 | F32: JM | G32: 8 | H32: T18496
A33: 28 | B33: HAYDEN | C33: VAN DER BERG | D33: FISHHOEK | E33: 36:22 | F33: JM | G33: 8 | I33: DQ-No Licence
A34: 29 | B34: CONNOR | C34: ECKLETON | D34: KUILSRIVIER | E34: 36:24 | F34: JM | G34: 8 | H34: J40025
A35: 30 | B35: KEMO | C35: TUTU | D35: RCS GUGS | E35: 43:28 | F35: JM | G35: 8 | H35: J41096
A36: 31 | B36: NHLANHLA | C36: MSUTHU | D36: KHAYELITSHA | E36: 45:38 | F36: JM | G36: 8 | H36: J40803

Sheet JUNIOR WOMEN 
A1: ='Cover Page'!A2 -> CROSS COUNTRY LEAGUE 1 - SILVERSTREAM RESORT
A2: ='Cover Page'!A3 -> 45794
A3: Junior Women 6km
A5: POSITION | B5: FIRST NAME | C5: SURNAME | D5: CLUB | E5: TIME | F5: RACE | G5: Km | H5: LICENCE NO
A6: 1 | B6: INDIPHILE | C6: NTSHINGA | D6: KHAYELITSHA | E6: 24:12 | F6: JW | G6: 6 | H6: J40794
A7: 2 | B7: KUNGAWO | C7: DLONGWANA | D7: DURBAC | E7: 24:32 | F7: JW | G7: 6 | H7: J40868
A8: 3 | B8: WILMIEN | C8: VERBREEK | D8: CAPE MULTI SPORT | E8: 24:56 | F8: JW | G8: 6 | H8: J40693
A9: 4 | B9: JENNA | C9: JOOSTE | D9: DURBAC | E9: 25:37 | F9: JW | G9: 6 | H9: J41057
A10: 5 | B10: JAYDEN | C10: JOOSTE | D10: DURBAC | E10: 26:23 | F10: JW | G10: 6 | H10: J41159
A11: 6 | B11: YONDA | C11: JADA | D11: ATC | E11: 27:56 | F11: JW | G11: 6 | H11: J41074
A12: 7 | B12: DANICA | C12: JANSEN | D12: EERSTERIVER | E12: 28:47 | F12: JW | G12: 6 | H12: J40462
A13: 8 | B13: ALULUTHO | C13: MLTHANI | D13: RCS GUGS | E13: 28:56 | F13: JW | G13: 6 | H13: J40918
A14: 9 | B14: AUME | C14: PIETERSEN | D14: UWC | E14: 31:45 | F14: JW | G14: 6 | H14: J41021
A15: 10 | B15: MIGON | C15: ROUX | D15: BELVILLE | E15: 34:08 | F15: JW | G15: 6 | H15: J41083
A16: 11 | B16: AVY | C16: BERGAAR | D16: NEDBANK | E16: 38:53 | F16: JW | G16: 6 | H16: J41220
B18: ALECIA | C18: WELKOM | D18: WCIR | E18: 26:08 | F18: G16 | G18: 6 | H18: J40744

Sheet SENIOR MEN4
A1: ='Cover Page'!A2 -> CROSS COUNTRY LEAGUE 1 - SILVERSTREAM RESORT
A2: ='Cover Page'!A3 -> 45794
A3: Senior Men 4km
A5: POSITION | B5: FIRST NAME | C5: SURNAME | D5: CLUB | E5: TIME | F5: RACE | G5: Km | H5: LICENCE NO
A6: 1 | B6: GRANDLION | C6: KATZEN | D6: KUILSRIVER | E6: 0.52222222 | F6: SM | G6: 4 | H6: 15581
A7: 2 | B7: LUTHABO | C7: MPONGWANA | D7: GO TYME BANK | E7: 0.52708333 | F7: SM | G7: 4 | H7: 15260 | I7: M23
A8: 3 | B8: SIYANBONGA | C8: CENTANE | D8: NEDBANK | E8: 0.54930556 | F8: SM | G8: 4 | H8: 1922 | I8: M23
A9: 4 | B9: GERSHWIN | C9: VAN STADEN | D9: ELSIESRIVIER | E9: 0.55347222 | F9: SM | G9: 4 | H9: 5730
A10: 5 | B10: MARKIE | C10: MUNZIMBA | D10: BOTTELARY | E10: 0.55486111 | F10: SM | G10: 4 | H10: 15163 | I10: M23
A11: 6 | B11: THEODORE | C11: MASHIMBYE | D11: SANDF | E11: 0.60972222 | F11: SM | G11: 4 | H11: 16513
A12: 7 | B12: PHUTI | C12: MATHUSANE | D12: UWC | E12: 0.64097222 | F12: SM | G12: 4 | H12: 12981 | I12: M23
A13: 8 | B13: JOHN | C13: CHABALALA | D13: ATLANTIC AC | E13: 15:26 | F13: SM | G13: 4 | H13: 11627
A14: 9 | B14: LUKAS | C14: VAN DER MERWE | D14: ATLANTIC AC | E14: 0.68402778 | F14: SM | G14: 4 | H14: 11513
A15: 10 | B15: HEIMIE | D15: PINELANDS | E15: 0.72916667 | F15: SM | G15: 4 | H15: 2671
A16: 11 | B16: DANIEL | C16: ADAMS | D16: PINELANDS | E16: 0.75486111 | F16: SM | G16: 4 | H16: 3001
A17: 12 | B17: BRENDAN | C17: RUSSEL | D17: BELLVILLE | E17: 0.80208333 | F17: SM | G17: 4 | H17: 5151
A18: 13 | B18: CHAMMING | C18: EDWINS | D18: EASTERNS KRAAIFONTEIN | E18: 0.82291667 | F18: SM | G18: 4 | H18: 7629
A19: 14 | B19: JASON | C19: DUFF | D19: EDGEMEAD | E19: 0.9375 | F19: SM | G19: 4 | H19: 3145
A20: 15 | B20: ANDRE | C20: RIX | D20: MITCHELLE PLAIN TITANS | E20: 0.95416667 | F20: SM | G20: 4 | H20: 16680
A21: 16 | B21: ASHLEY | C21: JOHNSON | D21: EASTERNS KRAAIFONTEIN | E21: 0.96666667 | F21: SM | G21: 4 | H21: 7623
A22: 17 | B22: DENZIL | C22: JACOBS | D22: PINELANDS | E22: 0.96944444 | F22: SM | G22: 4 | H22: 3007
A23: 18 | B23: W | C23: MITCHELL | D23: EASTERNS KRAAIFONTEIN | E23: 0.98958333 | F23: SM | G23: 4 | H23: 7650
A24: 19 | B24: GCINIKAYA | C24: DLADLO | D24: PINELANDS | E24: 24:02 | F24: SM | G24: 4 | H24: 2874
A25: 20 | B25: STANLEY | C25: ADAMS | D25: PINELANDS | E25: 24:08 | F25: SM | G25: 4 | H25: 2988
A26: 21 | B26: WENDELL | C26: SMITH | D26: PINELANDS | E26: 24:20 | F26: SM | G26: 4 | H26: 14747
A27: 22 | B27: ROCHEN | C27: DEELIE | D27: EASTERNS KRAAIFONTEIN | E27: 24:44 | F27: SM | G27: 4 | H27: 7626
A28: 23 | B28: JIMMY | C28: JANSEN | D28: PINELANDS | E28: 25:27 | F28: SM | G28: 4 | H28: 3004
A29: 24 | B29: NAASIEF | C29: DAVIDS | D29: PINELANDS | E29: 25:49 | F29: SM | G29: 4 | H29: 2733
A30: 25 | B30: KANAKANA | C30: MUSHANGANYIS | D30: PINELANDS | E30: 27:35 | F30: SM | G30: 4 | H30: 2650
A31: 26 | B31: ASHROF | C31: KHAN | D31: PINELANDS | E31: 32:37 | F31: SM | G31: 4 | H31: 2687
A32: 27 | B32: MARIANNE | C32: SCOUT | D32: DURBAC | E32: 34:22 | F32: SM | G32: 4 | H32: 7282
A33: 28 | B33: HENRY | C33: DU PLESIS | D33: PINELANDS | F33: SM | G33: 4 | H33: 2623

Sheet SENIOR WOMEN4
A1: ='Cover Page'!A2 -> CROSS COUNTRY LEAGUE 1 - SILVERSTREAM RESORT
A2: ='Cover Page'!A3 -> 45794
A3: Senior Women 4km
A5: POSITION | B5: FIRST NAME | C5: SURNAME | D5: CLUB | E5: TIME | F5: RACE | G5: Km | H5: LICENCE NO
A6: 1 | B6: PAIGE | C6: MACKENZIE | D6: ATLANTIC AC | E6: 0.65625 | F6: SW | G6: 4 | H6: 11548
A7: 2 | B7: KIMARA | C7: SOLMS | D7: NEDBANK | E7: 0.67361111 | F7: SW | G7: 4 | H7: 1932
A8: 3 | B8: ICARIEN | C8: HEYNS | D8: TYGERBURG | E8: 0.70763889 | F8: SW | G8: 4 | H8: 10213
A9: 4 | B9: ROLANDI | C9: SCHUTTE | D9: NEDBANK | E9: 0.72222222 | F9: SW | G9: 4 | H9: 1931
A10: 5 | B10: SHARLAN | C10: BOER | D10: GO TYME BANK | E10: 0.75694444 | F10: SW | G10: 4 | H10: 7686
A11: 6 | B11: ASHLEIGH | C11: HARTOGH | D11: PINELANDS | E11: 0.75833333 | F11: SW | G11: 4 | H11: 2741
A12: 7 | B12: ANNA | C12: NAUDE | D12: DURBAC | E12: 0.78680556 | F12: SW | G12: 4 | H12: 7284
A13: 8 | B13: RICKECIA | C13: SMITH | D13: WCIR | E13: 0.79097222 | F13: SW | G13: 4 | H13: 14084
A14: 9 | B14: BUSISIWE | C14: MATIWANE | D14: RCS GUGS | E14: 0.79305556 | F14: SW | G14: 4 | H14: 10365
A15: 10 | B15: THIMNA | C15: FANA | D15: INDIVIDUAL | E15: 0.83194444 | F15: SW | G15: 4 | I15: NO TEMP
A16: 11 | B16: JACKY | C16: MISROLL | D16: PINELANDS | E16: 0.84791667 | F16: SW | G16: 4 | H16: 2669
A17: 12 | B17: THANDEKA | C17: MONENE | D17: UWC | E17: 0.86180556 | F17: SW | G17: 4 | H17: 13042 | I17: W23
A18: 13 | B18: MUSA | C18: MATIWANE | D18: RCS GUGS | E18: 0.92569444 | F18: SW | G18: 4 | H18: T18493
A19: 14 | B19: CECILIA | D19: NANTES | E19: 0.97083333 | F19: SW | G19: 4 | H19: 5557
A20: 15 | B20: CLAUDIA | C20: CIEVERS | D20: TSVOB | E20: 0.99861111 | F20: SW | G20: 4 | H20: 1490
A21: 16 | B21: ALICIA | C21: HARTNICK | D21: WCIR | E21: 24:46 | F21: SW | G21: 4 | H21: 14086
B22: FELICIA | C22: HUGO | D22: NANTES | E22: 25:47 | F22: SW | G22: 4 | H22: 5556
B23: JULIE | C23: FRITZ | D23: EASTERNS KRAAIFONTEIN | E23: 25:51 | F23: SW | G23: 4 | H23: 7621
B24: ATHNEA | C24: FISCHER | D24: EASTERNS KRAAIFONTEIN | E24: 25:57 | F24: SW | G24: 4 | H24: 7606
B25: JOHANDIE | C25: DE KOCK | D25: BELVILLE | E25: 28:09 | F25: SW | G25: 4 | H25: 15484
B26: MAVIS | C26: JULIES | D26: PINELANDS | E26: 29:54 | F26: SW | G26: 4 | H26: 2625
B27: FATIMA | C27: KHAN | D27: PINELANDS | E27: 30:30 | F27: SW | G27: 4 | H27: 12749
B28: CHALDENE | C28: MISROLL | D28: PINELANDS | E28: 31:36 | F28: SW | G28: 4 | H28: 2673
B29: ASHLEE | C29: MISROLL | D29: PINELANDS | E29: 31:57 | F29: SW | G29: 4 | H29: 16292
B30: MICAELA | C30: DU PLESSIS | D30: PINELANDS | E30: 34:33 | F30: SW | G30: 4 | H30: 2828

Sheet B u8
A1: ='Cover Page'!A2 -> CROSS COUNTRY LEAGUE 1 - SILVERSTREAM RESORT
A2: ='Cover Page'!A3 -> 45794
A3: Boys under 8 1km
A5: POSITION | B5: FIRST NAME | C5: SURNAME | D5: CLUB | E5: TIME | F5: RACE | G5: Km | H5: LICENCE NO
A6: 1 | B6: JORDAN | C6: HENDRICKS | D6: WCIR | E6: 4:54 | F6: B8 | G6: 1
A7: 2 | B7: DAYLIN | C7: MARTINUS | D7: VOORUITSIG | E7: 5:04 | F7: B8 | G7: 1
A8: 3 | B8: BEN | C8: NIEWENHUIZEN | D8: VELOCITY | E8: 5:11 | F8: B8 | G8: 1
A9: 4 | B9: ASHLEY | C9: LAWRENCE | D9: SIMONSBERG | E9: 5:16 | F9: B8 | G9: 1
A10: 5 | B10: KAYDE | C10: FLYNN | D10: WCIR | E10: 5:20 | F10: B8 | G10: 1 | H10: J40753
A11: 6 | B11: PAXTON | C11: PEKEUR | D11: VELOCITY | E11: 5:34 | F11: B8 | G11: 1
A12: 7 | B12: ZAAHID | C12: MOLTI | D12: ARD | E12: 6:09 | F12: B8 | G12: 1
A13: 8 | B13: KEMAL | C13: WARNICK | D13: VOORUITSIG | E13: 6:14 | F13: B8 | G13: 1
A14: 9 | B14: JOTHAM | C14: NO SURNAME | D14: NONE | E14: 7:39 | F14: B8 | G14: 1

Sheet B u9
A1: ='Cover Page'!A2 -> CROSS COUNTRY LEAGUE 1 - SILVERSTREAM RESORT
A2: ='Cover Page'!A3 -> 45794
A3: Boys under 9 2km
A5: POSITION | B5: FIRST NAME | C5: SURNAME | D5: CLUB | E5: TIME | F5: RACE | G5: Km | H5: LICENCE NO
A6: 1 | B6: LIAM | C6: HEWETT | D6: DURBANVILLE | F6: B9 | G6: 2
A7: 2 | B7: SAMUEL | C7: KABENA | D7: UWC | E7: 8:39 | F7: B9 | G7: 2
A8: 3 | B8: KEERAN | C8: ADAMS | D8: UWC | E8: 8:58 | F8: B9 | G8: 2
A9: 4 | B9: LUCA | C9: ELLIS | D9: DURBANVILLE | E9: 9:18 | F9: B9 | G9: 2 | H9: J40431
A10: 5 | B10: THURSWON | D10: MONTANA PS | E10: 9:37 | F10: B9 | G10: 2
A11: 6 | B11: JORDAN | C11: GORDON | D11: EERSTE RIVER | E11: 0.40138889 | F11: B9 | G11: 2
A12: 7 | B12: JOHANNES | C12: DU PREEZ | D12: CAPE HOME EDUCATORS | E12: 9:57 | F12: B9 | G12: 2
A13: 8 | B13: JEMAL | C13: HEYNS | D13: VOORUITSIG PS | E13: 10:01 | F13: B9 | G13: 2
A14: 9 | B14: MALIQUE | C14: JULIES | D14: EERSTE RIVER | E14: 0.43611111 | F14: B9 | G14: 2 | H14: J40336
A15: 10 | B15: UTHMAAN | D15: MONTANA PS | E15: 0.44166667 | F15: B9 | G15: 2
A16: 11 | B16: RIWAN | C16: DEYSEL | D16: BASTION PS | E16: 0.46805556 | F16: B9 | G16: 2
A17: 12 | B17: MUHAMMAD | C17: BABAMID | D17: SUNLANDS PS | E17: 0.47083333 | F17: B9 | G17: 2
A18: 13 | B18: MAX | C18: ATSON | D18: PORTLAND PS | E18: 0.47638889 | F18: B9 | G18: 2
A19: 14 | B19: AIDEN | C19: MATONGO | D19: EDGMEAD RUNNERS | E19: 0.50416667 | F19: B9 | G19: 2 | H19: J41229
A20: 15 | B20: SERENZO | C20: BUYS | D20: VELOCITY | E20: 0.52152778 | F20: B9 | G20: 2

Sheet B u10
A1: ='Cover Page'!A2 -> CROSS COUNTRY LEAGUE 1 - SILVERSTREAM RESORT
A2: ='Cover Page'!A3 -> 45794
A3: Boys under 10 2km
A5: POSITION | B5: FIRST NAME | C5: SURNAME | D5: CLUB | E5: TIME | F5: RACE | G5: Km | H5: LICENCE NO
A6: 1 | B6: LATHAN | C6: NO SURNAME | D6: MONTANA PS | F6: B10 | G6: 2
A7: 2 | B7: TRIVAGO | C7: KIEVIETO | D7: UWC | E7: 8:22 | F7: B10 | G7: 2
A8: 3 | B8: ALEXANDER | C8: MARAIS | D8: KUILSRIVIER RUNNERS | E8: 8:25 | F8: B10 | G8: 2 | H8: J40028
A9: 4 | B9: SHILOH | C9: JANUARY | D9: UWC | E9: 8:40 | F9: B10 | G9: 2
A10: 5 | B10: WILLIAM | C10: DOOLING | D10: EERSTE RIVER | E10: 8:59 | F10: B10 | G10: 2
A11: 6 | B11: MKENZIE | C11: PETERSEN | D11: IMPERIAL PS | E11: 9:40 | F11: B10 | G11: 2
A12: 7 | B12: NGCALI | D12: RCS GUGS | E12: 9:49 | F12: B10 | G12: 2
A13: 8 | B13: VONIQUE | C13: FORTUIN | D13: DURBANVILLE | E13: 10:00 | F13: B10 | G13: 2
A14: 9 | B14: BEN | C14: OCKHUIS | D14: EDGMEAD | E14: 10:03 | F14: B10 | G14: 2 | H14: J40217
A15: 10 | B15: RIYAAZ | C15: DANIELS | D15: UWC | E15: 10:13 | F15: B10 | G15: 2
A16: 11 | B16: LAKHEKILE | C16: NYATELO | D16: RCS GUGS | E16: 0.43125 | F16: B10 | G16: 2
A17: 12 | B17: AZIHGCE | C17: MKHATHAZA | D17: INDIVIDUAL | E17: 0.47777778 | F17: B10 | G17: 2
A18: 13 | B18: LUSANELE | C18: MGELE | D18: RCS GUGS | E18: 0.48541667 | F18: B10 | G18: 2
A19: 14 | B19: WILL-ZARIO | C19: PIENAAR | D19: KUILSRIVIER RUNNERS | E19: 0.50555556 | F19: B10 | G19: 2 | H19: J40066
A20: 15 | B20: KGELO | C20: ZUBA | D20: RCS GUGS | E20: 0.60069444 | F20: B10 | G20: 2

Sheet B u11
A1: ='Cover Page'!A2 -> CROSS COUNTRY LEAGUE 1 - SILVERSTREAM RESORT
A2: ='Cover Page'!A3 -> 45794
A3: Boys under 11 3km
A5: POSITION | B5: FIRST NAME | C5: SURNAME | D5: CLUB | E5: TIME | F5: RACE | G5: Km | H5: LICENCE NO
A6: 1 | B6: REEVEN | C6: TOPP | D6: ATC | E6: 11:49 | F6: B11 | G6: 3 | H6: J41067
A7: 2 | B7: SERGIO | C7: PLAATJIES | D7: UWC | E7: 12:20 | F7: B11 | G7: 3 | H7: J40560
A8: 3 | B8: JUWAYDEN | C8: KLEINSMITH | D8: VELOCITY | E8: 12:44 | F8: B11 | G8: 3
A9: 4 | B9: LOGAN | C9: PUGIN | D9: WCIR | E9: 13:11 | F9: B11 | G9: 3 | H9: J40740
A10: 5 | B10: LINCOLN | D10: MONTANA PS | E10: 13:13 | F10: B11 | G10: 3
A11: 6 | B11: AIDEN | C11: DAVIDS | D11: UWC | E11: 13:29 | F11: B11 | G11: 3 | H11: J40965
A12: 7 | B12: HAILY | C12: TANGO | D12: VELOCITY | E12: 13:34 | F12: B11 | G12: 3
A13: 8 | B13: ROWENA | C13: FARS | D13: DURBAC | E13: 13:58 | F13: B11 | G13: 3 | H13: J41267
A14: 9 | B14: IYAAZ | D14: MONTANA PS | E14: 14:22 | F14: B11 | G14: 3
A15: 10 | B15: ROBIN | C15: LEONARD | D15: VOORUITSIG PS | E15: 14:48 | F15: B11 | G15: 3
A16: 11 | B16: AHKEEM | C16: BRUSSE | D16: EERSTERIVER | E16: 0.62638889 | F16: B11 | G16: 3 | H16: J40903
A17: 12 | B17: LIYABANA | C17: SIYIDI | D17: RCS GUS | E17: 0.64722222 | F17: B11 | G17: 3 | H17: J40921
A18: 13 | B18: DIEGO | C18: HEYNS | D18: VELOCITY | E18: 0.65625 | F18: B11 | G18: 3
A19: 14 | B19: ROMARIO | C19: SPEELMAN | D19: VELOCITY | E19: 0.69166667 | F19: B11 | G19: 3 | H19: J40730
A20: 15 | B20: DVAAUL | C20: BRUINTJIES | D20: VELOCITY | E20: 0.70555556 | F20: B11 | G20: 3
A21: 16 | B21: ADAM | C21: GALLANT | D21: FISHHOEK | E21: 0.74375 | F21: B11 | G21: 3
A22: 17 | B22: MUSAWEMKOSI | D22: DURBAC | E22: 32:08 | F22: B11 | G22: 3

Sheet B u12
A1: ='Cover Page'!A2 -> CROSS COUNTRY LEAGUE 1 - SILVERSTREAM RESORT
A2: ='Cover Page'!A3 -> 45794
A3: Boys under 12 3km
A5: POSITION | B5: FIRST NAME | C5: SURNAME | D5: CLUB | E5: TIME | F5: RACE | G5: Km | H5: LICENCE NO
A6: 1 | B6: EBEN | C6: TROUT | D6: FISHHOEK | E6: 11:56 | F6: B12 | G6: 3 | H6: J40202
A7: 2 | B7: LIAM | C7: MARAIS | D7: KUILSRIVER | E7: 11:57 | F7: B12 | G7: 3 | H7: J40029
A8: 3 | B8: SONWABISE | C8: JACU | D8: RCS GUS | E8: 11:58 | F8: B12 | G8: 3
A9: 4 | B9: ZANE | D9: MONTANA PS | E9: 12:05 | F9: B12 | G9: 3
A10: 5 | B10: SEBASTIAN | C10: MARAIS | D10: KUILSRIVER | E10: 12:14 | F10: B12 | G10: 3 | H10: J40030
A11: 6 | B11: JAYDEN-LEE | C11: PELLOW | D11: ATC | E11: 12:15 | F11: B12 | G11: 3 | H11: J41071
A12: 7 | B12: DIHAN | C12: STASSEN | D12: BASTION PS | E12: 12:24 | F12: B12 | G12: 3
A13: 8 | B13: ELIJAH | C13: JANSEN | D13: WCIR | E13: 12:57 | F13: B12 | G13: 3 | H13: J40750
A14: 9 | B14: NICKLAS | C14: ABE | D14: SPAAAC | E14: 13:00 | F14: B12 | G14: 3 | H14: J40527
A15: 10 | B15: JOSHWIN | C15: HENDRICKS | D15: WCIR | E15: 13:15 | F15: B12 | G15: 3 | H15: J40748
A16: 11 | B16: TRISTAN | C16: LENDIS | D16: VELOCITY | E16: 13:15 | F16: B12 | G16: 3
A17: 12 | B17: AWONGE | C17: NZWANA | D17: RCS GUS | E17: 13:27 | F17: B12 | G17: 3
A18: 13 | B18: ZAANE | C18: BOWERS | D18: IMPERIAL PS | E18: 13:34 | F18: B12 | G18: 3
A19: 14 | B19: SHAYDON | C19: TITUS | D19: ELSIESRIVER | E19: 0.56805556 | F19: B12 | G19: 3 | H19: J40686
A20: 15 | E20: 0.575 | F20: B12 | G20: 3 | H20: NO CARD
A21: 16 | B21: JJ | C21: DOLLIE | D21: VOORUITSIG PS | E21: 13:53 | F21: B12 | G21: 3
A22: 17 | B22: JADE | C22: HARTNICK | D22: WCIR | E22: 14:02 | F22: B12 | G22: 3 | H22: J40749
A23: 18 | B23: CARTHER | C23: MEYER | D23: EASTERNS KRAAIFONTEIN AC | E23: 14:08 | F23: B12 | G23: 3
A24: 19 | B24: NEYMAR | C24: CUPIDO | D24: EERSTERIVER | E24: 14:10 | F24: B12 | G24: 3 | H24: J40342
A25: 20 | B25: CAYDEN | C25: GESWINDT | D25: WCIR | E25: 14:26 | F25: B12 | G25: 3
A26: 21 | B26: NIAM | D26: MONTANA PS | E26: 14:36 | F26: B12 | G26: 3
A27: 22 | B27: LYLE | C27: GORDON | D27: UWC | E27: 14:44 | F27: B12 | G27: 3 | H27: J40553
A28: 23 | B28: MARIANO | C28: BRAAF | D28: EERSTERIVER | E28: 0.62847222 | F28: B12 | G28: 3
A29: 24 | B29: RAWAAN | C29: MATI | D29: ARD | E29: 0.62986111 | F29: B12 | G29: 3
A30: 25 | B30: LEETHAN | C30: ADAMS | D30: VELOCITY | E30: 0.64305556 | F30: B12 | G30: 3
A31: 26 | B31: OYEMA | C31: MKATAZO | D31: NEDBANK | E31: 0.65486111 | F31: B12 | G31: 3
A32: 27 | B32: JAYRU | D32: MONTANA PS | E32: 0.68125 | F32: B12 | G32: 3
A33: 28 | B33: AMAMKELE | C33: MBOXELA | D33: NEDBANK | E33: 0.68680556 | F33: B12 | G33: 3
A34: 29 | B34: DANIEL | C34: DE WIT | D34: DURBAC | E34: 0.69027778 | F34: B12 | G34: 3 | H34: J41171
A35: 30 | B35: LISA | C35: MKATAZO | D35: NEDBANK | E35: 0.72430556 | F35: B12 | G35: 3
A36: 31 | B36: JAMES | C36: PEKEUR | D36: VANIBRINK STRAND | E36: 0.74097222 | F36: B12 | G36: 3
A37: 32 | B37: KIERON | D37: FISHHOEK | E37: 0.86111111 | F37: B12 | G37: 3 | H37: J40198
A38: 33 | B38: GERSHWIN | C38: GORDON | D38: EERSTERIVER | E38: 0.94097222 | F38: B12 | G38: 3

Sheet B u13
A1: ='Cover Page'!A2 -> CROSS COUNTRY LEAGUE 1 - SILVERSTREAM RESORT
A2: ='Cover Page'!A3 -> 45794
A3: Boys under 13 4km
A5: POSITION | B5: FIRST NAME | C5: SURNAME | D5: CLUB | E5: TIME | F5: RACE | G5: Km | H5: LICENCE NO
A6: 1 | B6: SEZARIO | C6: TAFEL | D6: UWC | E6: 14:31 | F6: B13 | G6: 4 | H6: J40700
A7: 2 | B7: COLBIN | C7: CHRISTOFFELS | D7: BOTTELARY | E7: 0.61875 | F7: B13 | G7: 4 | H7: J40888
A8: 3 | B8: RIYAAN | C8: SMITH | D8: BOTTELARY | E8: 0.63611111 | F8: B13 | G8: 4
A9: 4 | B9: CAMERON | C9: JAMES | D9: BOTTELARY | E9: 15:21 | F9: B13 | G9: 4
A10: 5 | B10: ABUKIWE | C10: MBOXELA | D10: NEDBANK | E10: 15:36 | F10: B13 | G10: 4
A11: 6 | B11: MARTIN | C11: ERASMUS | D11: UWC | E11: 15:45 | F11: B13 | G11: 4 | H11: J40974
A12: 7 | B12: JADEWIN | C12: FORTUIN | D12: VELOCITY | E12: 15:50 | F12: B13 | G12: 4
A13: 8 | B13: GERONIMO | C13: TULLEY | D13: VELOCITY | E13: 16:01 | F13: B13 | G13: 4 | H13: J40720
A14: 9 | B14: CAMERON | C14: ABRAHAMS | D14: WCIR | E14: 16:07 | F14: B13 | G14: 4 | H14: J40747
A15: 10 | B15: BUNONO | C15: QULUBA | D15: KHAYELITSHA | E15: 16:09 | F15: B13 | G15: 4 | H15: J40790
A16: 11 | B16: ELJERON | C16: MARTINS | D16: WCIR | E16: 16:19 | F16: B13 | G16: 4 | H16: J40746
A17: 12 | B17: MATTEO | C17: ROSSER | D17: BELVILLE | E17: 16:21 | F17: B13 | G17: 4 | H17: J41243
A18: 13 | B18: CALEB | D18: MONTANA PS | E18: 16:24 | F18: B13 | G18: 4
A19: 14 | B19: FRENKIE | C19: SOGGOP | D19: BOTTELARY | E19: 16:32 | F19: B13 | G19: 4 | H19: J40883
A20: 15 | B20: RIO | C20: GALESHEWA | D20: EASTERN KRAAIFONTEIN | E20: 16:58 | F20: B13 | G20: 4
A21: 16 | B21: DYLAN | C21: HOOP | D21: VELOCITY | E21: 17:15 | F21: B13 | G21: 4
A22: 17 | B22: STORM | D22: MONTANA PS | E22: 17:22 | F22: B13 | G22: 4
A23: 18 | B23: YENELO | C23: MOLOKOVI | D23: RCS GUGS | E23: 18:06 | F23: B13 | G23: 4 | H23: J40916
A24: 19 | B24: ZAID | D24: MONTANA PS | E24: 18:59 | F24: B13 | G24: 4
A25: 20 | B25: LEE | C25: ARIES | D25: VELOCITY | E25: 20:48 | F25: B13 | G25: 4
A26: 21 | B26: SIPHOSETHU | C26: SIKOTI | D26: RCS GUGS | E26: 20:49 | F26: B13 | G26: 4
A27: 22 | B27: LIHIUMILE | C27: MAYETHA | D27: RCS GUGS | E27: 27:39 | F27: B13 | G27: 4
A28: 23 | B28: JAYDEN | C28: NDILA | D28: RCS GUGS | E28: 27:41 | F28: B13 | G28: 4 | H28: J40281

Sheet B u14
A1: ='Cover Page'!A2 -> CROSS COUNTRY LEAGUE 1 - SILVERSTREAM RESORT
A2: ='Cover Page'!A3 -> 45794
A3: Boys under 14 4km
A5: POSITION | B5: FIRST NAME | C5: SURNAME | D5: CLUB | E5: TIME | F5: RACE | G5: Km | H5: LICENCE NO
A6: 1 | B6: JOSHUA | C6: DAMMON | D6: VELOCITY | E6: 0.59722222 | F6: B14 | G6: 4 | H6: J40722
A7: 2 | B7: DEVONDRE | C7: CLAASEN | D7: WCIR | E7: 0.60208333 | F7: B14 | G7: 4 | H7: J40745
A8: 3 | B8: MARSHWIN | C8: BOBOTJANA | D8: BOTTELARY | E8: 0.61666667 | F8: B14 | G8: 4 | H8: J40889
A9: 4 | B9: LUKE | C9: RUDOLPH | D9: NEDBANK | E9: 0.62777778 | F9: B14 | G9: 4 | H9: J40348
A10: 5 | B10: DEVONTY | C10: JACOBS | D10: NEDBANK | E10: 0.62916667 | F10: B14 | G10: 4 | H10: J40352
A11: 6 | B11: KEANE | C11: ROSSER | D11: BELVILLE | E11: 0.63055556 | F11: B14 | G11: 4 | H11: J41244
A12: 7 | B12: CHRISPEHANO | C12: SYSTER | D12: NEDBANK | E12: 0.63472222 | F12: B14 | G12: 4 | H12: J41080
A13: 8 | B13: JAYSHAAR | C13: DAVIDS | D13: VELOCITY | E13: 0.64236111 | F13: B14 | G13: 4 | I13: DQ No Licence
A14: 9 | B14: LEX | C14: CHIVELL | D14: FISHHOEK | E14: 0.68263889 | F14: B14 | G14: 4 | H14: J40206
A15: 10 | B15: JADEN | C15: GORDON | D15: UWC | E15: 0.68888889 | F15: B14 | G15: 4 | H15: J40696
A16: 11 | B16: DENVER | C16: STEENKAMP | D16: ATC | E16: 0.69652778 | F16: B14 | G16: 4 | H16: J41078
A17: 12 | B17: ELTHINO | C17: PAGE | D17: EERSTERIVER | E17: 0.69930556 | F17: B14 | G17: 4 | H17: J40465
A18: 13 | B18: LOIC | C18: SCHELTENS | D18: CMC | E18: 0.70208333 | F18: B14 | G18: 4 | H18: J41182
A19: 14 | B19: LULO | C19: MAZULA | D19: RCS GUGS | E19: 0.71944444 | F19: B14 | G19: 4 | H19: J41098
A20: 15 | B20: ELIJAH | C20: COLLINS | D20: UWC | E20: 0.72777778 | F20: B14 | G20: 4 | H20: J40702
A21: 16 | B21: MIHLALI | C21: FRANSMAN | D21: EASTERN KRAAIFONTEIN | E21: 0.73819444 | F21: B14 | G21: 4 | H21: T29508
A22: 17 | B22: ZODON | C22: JULIES | D22: EASTERN KRAAIFONTEIN | E22: 0.78125 | F22: B14 | G22: 4 | H22: T29507
A23: 18 | B23: JORDAN | C23: AFRICA | D23: EDGEMEAD | E23: 0.78888889 | F23: B14 | G23: 4 | H23: J40211
A24: 19 | B24: AGABULELA | C24: LAMAN | D24: RCS GUGS | E24: 0.87569444 | F24: B14 | G24: 4 | I24: DQ No Licence
A25: 20 | B25: LISLETHU | C25: ZUBA | D25: RCS GUGS | E25: 0.87708333 | F25: B14 | G25: 4 | H25: J40923
A26: 21 | B26: ELETHU | C26: SUBA | D26: RCS GUGS | E26: 0.87777778 | F26: B14 | G26: 4 | H26: J40922
A27: 22 | B27: BENITO | C27: DE BRUIN | D27: VELOCITY | E27: 0.89097222 | F27: B14 | G27: 4 | H27: T29510
B29: GERELDO | C29: BAARTMAN | D29: DURBAC | E29: 0.60902778 | F29: B13 | G29: 4 | H29: J41252
B30: JORDAN | C30: UITHALER | D30: DURBAC | E30: 0.74930556 | F30: B13 | G30: 4 | H30: J41256

Sheet B u15
A1: ='Cover Page'!A2 -> CROSS COUNTRY LEAGUE 1 - SILVERSTREAM RESORT
A2: ='Cover Page'!A3 -> 45794
A3: Boys under 15 4km
A5: POSITION | B5: FIRST NAME | C5: SURNAME | D5: CLUB | E5: TIME | F5: RACE | G5: Km | H5: LICENCE NO
A6: 1 | B6: HOSEA | C6: TROLLIP | D6: HELHAR | E6: 0.54513889 | F6: B15 | G6: 4 | H6: P32
A7: 2 | B7: BULELA | C7: AROSI | D7: KHAYELITSHA | E7: 0.57291667 | F7: B15 | G7: 4 | H7: J40788
A8: 3 | B8: FABIANO | C8: RAMPSON | D8: UWC | E8: 0.57847222 | F8: B15 | G8: 4 | H8: J40436
A9: 4 | B9: JEREMIAH | C9: ARRIES | D9: ELSIESRIVER | E9: 0.59027778 | F9: B15 | G9: 4 | H9: J40689
A10: 5 | B10: POLITE | C10: CHIMWAMWAI | D10: NEDBANK | E10: 0.61041667 | F10: B15 | G10: 4 | H10: J40350
A11: 6 | B11: CARL | C11: STASSEN | D11: WESTCOAST | E11: 0.62430556 | F11: B15 | G11: 4 | H11: J40419
A12: 7 | B12: IMENSE | C12: MBAMBO | D12: KHAYELITSHA | E12: 0.64027778 | F12: B15 | G12: 4 | H12: J40800
A13: 8 | B13: KWAKHANYA | C13: GECA | D13: RCS GUGS | E13: 0.64375 | F13: B15 | G13: 4 | H13: J41100
A14: 9 | B14: LEHAN | C14: DIENER | D14: STRAND | E14: 0.65347222 | F14: B15 | G14: 4 | H14: J40035
A15: 10 | B15: MEKHI | C15: HASSIM | D15: UWC | E15: 0.65763889 | F15: B15 | G15: 4 | H15: J40703
A16: 11 | B16: SEVERIO | C16: KITCHING | D16: BOTTELARY | E16: 0.66944444 | F16: B15 | G16: 4 | H16: J40887
A17: 12 | B17: IMINATHI | C17: MNQUMERU | D17: KHAYELITSHA | E17: 0.67847222 | F17: B15 | G17: 4 | H17: T29514
A18: 13 | B18: ANGELO | C18: SWARTS | D18: VELOCITY | E18: 0.67916667 | F18: B15 | G18: 4 | I18: DQ No Licence
A19: 14 | B19: MISCHA | C19: MILLER | D19: EASTERN KRAAIFONTEIN | E19: 0.70416667 | F19: B15 | G19: 4 | H19: J41276
A20: 15 | B20: ALKEENO | C20: FRANSMAN | D20: BOTTELARY | E20: 0.70694444 | F20: B15 | G20: 4 | H20: J40886
A21: 16 | B21: TYRON | C21: OTTO | D21: EERSTERIVER | E21: 0.72291667 | F21: B15 | G21: 4 | H21: J40339
A22: 17 | B22: BRONWYN | C22: RIFFEL | D22: EERSTERIVER | E22: 0.74722222 | F22: B15 | G22: 4 | H22: J40329
A23: 18 | B23: ALOKHE | C23: MDLETYE | D23: EASTERN KRAAIFONTEIN | E23: 0.80555556 | F23: B15 | G23: 4 | H23: T29509
A24: 19 | B24: JADEN | C24: CUPIDO | D24: EERSTERIVER | E24: 0.81805556 | F24: B15 | G24: 4 | H24: J40341
A25: 20 | B25: JASON | C25: TITUS | D25: RAVENSMEAD AC | E25: 0.85416667 | F25: B15 | G25: 4 | H25: T29520

Sheet B u16
A1: ='Cover Page'!A2 -> CROSS COUNTRY LEAGUE 1 - SILVERSTREAM RESORT
A2: ='Cover Page'!A3 -> 45794
A3: Boys under 16 6km
A5: POSITION | B5: FIRST NAME | C5: SURNAME | D5: CLUB | E5: TIME | F5: RACE | G5: Km | H5: LICENCE NO
A6: 1 | B6: MIVUYO | C6: MPENDU | D6: TSVOB | E6: 19:45 | F6: B16 | G6: 6 | I6: DQ No Licence
A7: 2 | B7: JUNAIDE | C7: GEORGE | D7: EDGEMEAD | E7: 20:04 | F7: B16 | G7: 6 | H7: J40814
A8: 3 | B8: JT | C8: ARENDORF | D8: UWC | E8: 20:28 | F8: B16 | G8: 6 | H8: J40437
A9: 4 | B9: ANDRO | C9: HERSELMAN | D9: PAREL VALLEI | E9: 21:50 | F9: B16 | G9: 6 | H9: T29522
A10: 5 | B10: TSHEPANG | C10: VISAGIE | D10: LWANDLE AC | E10: 21:55 | F10: B16 | G10: 6 | H10: J41139
A11: 6 | B11: MIKYLE | C11: DELPORT | D11: EERSTERIVER | E11: 22:13 | F11: B16 | G11: 6 | H11: J40327
A12: 7 | B12: REUBEN | C12: VAN SCHALKWYK | D12: CAPE MULTI SPORT | E12: 22:39 | F12: B16 | G12: 6 | H12: J41184
A13: 8 | B13: LIAM | C13: CLAASEN | D13: UWC | E13: 22:50 | F13: B16 | G13: 6 | H13: J41027
A14: 9 | B14: CAYLEM | C14: JOOSTE | D14: BOTTELARY | E14: 23:04 | F14: B16 | G14: 6 | H14: J40880
A15: 10 | B15: SIVUYISE | C15: POSWA | D15: LWANDLE | E15: 23:37 | F15: B16 | G15: 6 | H15: J41138
A16: 11 | B16: ESTIAN | C16: DIENER | D16: STRAND AC | E16: 23:59 | F16: B16 | G16: 6 | H16: J40034
A17: 12 | B17: KHANYA | C17: MASETI | D17: KHAYELITSHA | E17: 24:06 | F17: B16 | G17: 6 | H17: J40795
A18: 13 | B18: ZEKE | C18: GANGER | D18: GROOTE SCHUUR HS | E18: 24:29 | F18: B16 | G18: 6 | H18: T29506
... A21: 16 | B21: ZAIN | C21: TITUS | D21: ELSIESRIVER | E21: 27:57 | F21: B16 | G21: 6 | H21: J40683
A22: 17 | B22: JOSHUA | C22: DEYKES | D22: HOUTBAY | E22: 28:19 | F22: B16 | G22: 6 | I22: DQ No Licence
A23: 18 | B23: JODY | C23: NOBLE | D23: WCIR | E23: 28:40 | F23: B16 | G23: 6 | H23: J40741
A24: 19 | B24: ROMEO | D24: EERSTERIVER | E24: 30:08 | F24: B16 | G24: 6 | H24: J40344

Sheet B u17
A1: ='Cover Page'!A2 -> CROSS COUNTRY LEAGUE 1 - SILVERSTREAM RESORT
A2: ='Cover Page'!A3 -> 45794
A3: Boys under 17 6km
A5: POSITION | B5: FIRST NAME | C5: SURNAME | D5: CLUB | E5: TIME | F5: RACE | G5: Km | H5: LICENCE NO
A6: 1 | B6: ANGALAKHA | C6: PALISO | D6: LWANDLE | E6: 20:13 | F6: B17 | G6: 6 | H6: J41146
A7: 2 | B7: JOSHUA | C7: SCHOUW | D7: NEDBANK | E7: 20:30 | F7: B17 | G7: 6 | H7: J40349
A8: 3 | B8: WAYDEN | C8: LOUW | D8: UWC | E8: 20:31 | F8: B17 | G8: 6 | H8: J40971
A9: 4 | B9: REAGAN | C9: FREEMAN | D9: NEDBANK | E9: 20:51 | F9: B17 | G9: 6 | H9: J40351
A10: 5 | B10: LIKHONA | C10: NQOLANA | D10: TSVOB | E10: 21:01 | F10: B17 | G10: 6 | H10: J40095
A11: 6 | B11: JADE | C11: ABRAHAMS | D11: EERSTE RIVIER | E11: 21:37 | F11: B17 | G11: 6 | H11: J40330
A12: 7 | B12: TEBOGO | C12: SANGILI | E12: 21:44 | F12: B17 | G12: 6 | H12: J40365
A13: 8 | B13: MIGUEL | C13: PLAATJIES | D13: UWC | E13: 22:25 | F13: B17 | G13: 6 | H13: J40559
A14: 9 | B14: JORDAN | C14: KIEWIERS | D14: NEDBANK | E14: 23:24 | F14: B17 | G14: 6 | H14: J40493
A15: 10 | B15: ANODWA | C15: MGXOLWA | E15: 23:31 | F15: B17 | G15: 6 | I15: DQ No Licence
A16: 11 | B16: LIBONE | C16: SISWA | D16: TSVOB | E16: 23:58 | F16: B17 | G16: 6 | H16: J40622
A17: 12 | B17: WAYLON | C17: KLAASEN | D17: NEDBANK | E17: 24:46 | F17: B17 | G17: 6 | H17: J41216
A18: 13 | B18: KYLE | C18: STEVENS | D18: ELSIESRIVER | E18: 25:20 | F18: B17 | G18: 6 | H18: J40682
A19: 14 | B19: ZACHARIAH | C19: LEWIS | D19: DURBAC | E19: 25:22 | F19: B17 | G19: 6 | H19: J40434
A20: 15 | B20: CHRISSANDRO | C20: VERMEULEN | D20: UWC | E20: 26:04 | F20: B17 | G20: 6 | H20: J40694
A21: 16 | B21: CARLIP | C21: ASJA | D21: KUILSRIVIER | E21: 26:39 | F21: B17 | G21: 6 | H21: J41153
A22: 17 | B22: DAMIAN | C22: PARTTON | D22: NEDBANK | E22: 30:02 | F22: B17 | G22: 6 | H22: J41086
A23: 18 | B23: LIAM | C23: THOMPSON | D23: FISH HOEK | E23: 38:01 | F23: B17 | G23: 6 | H23: T29516
A24: 19 | B24: SHAFEEQ | C24: SOUMA | D24: ROBINVALE PS | E24: 54:57 | F24: B17 | G24: 6 | H24: T29518

Sheet MEN 35-39
A1: ='Cover Page'!A2 -> CROSS COUNTRY LEAGUE 1 - SILVERSTREAM RESORT
A2: ='Cover Page'!A3 -> 45794
A3: Master Men 35-39 8km
A5: POSITION | B5: FIRST NAME | C5: SURNAME | D5: CLUB | E5: TIME | F5: RACE | G5: Km | H5: LICENCE NO
A6: 1 | B6: FAIZEL | C6: OCTOBER | D6: CASUARINA | E6: 28:39 | F6: MM35 | G6: 8 | I6: DQ No Licence
A7: 2 | B7: BARRY-JOHN | C7: PIENAAR | D7: KUILSRIVIER | E7: 32:44 | F7: MM35 | G7: 8 | H7: 2051
A8: 3 | B8: PIETER | C8: MOKOTORY | D8: CASUARINA | E8: 36:19 | F8: MM35 | G8: 8 | H8: P16855
A9: 4 | B9: ANDRE | C9: RIX | D9: MP TITANS | E9: 38:24 | F9: MM35 | G9: 8 | H9: 16680
A10: 5 | B10: ZOLISA | C10: JIBA | D10: SANDF | E10: 38:56 | F10: MM35 | G10: 8 | H10: 7999
A11: 6 | B11: MATTHEW | C11: DE KOCK | D11: CELTIC | E11: 47:44 | F11: MM35 | G11: 8 | H11: P4004
A12: 7 | B12: JEROME | C12: SWARDT | D12: TYGERBERG | E12: 51:56 | F12: MM35 | G12: 8 | H12: P4149

Sheet MEN 40-44
A1: ='Cover Page'!A2 -> CROSS COUNTRY LEAGUE 1 - SILVERSTREAM RESORT
A2: ='Cover Page'!A3 -> 45794
A3: Master Men 40-44 8km
A5: POSITION | B5: FIRST NAME | C5: SURNAME | D5: CLUB | E5: TIME | F5: RACE | G5: Km | H5: LICENCE NO
A6: 1 | B6: RIAAN | C6: WILDSCHUT | D6: ATC | E6: 27:30 | F6: MM40 | G6: 8 | H6: 15762
A7: 2 | B7: KENNETH | C7: LEBALLO | D7: CELTIC | E7: 27:44 | F7: MM40 | G7: 8 | H7: 3640
A8: 3 | B8: SIYA | C8: SAKWE | D8: RCS GUGS | E8: 28:04 | F8: MM40 | G8: 8 | H8: 10661
A9: 4 | B9: GARROW | C9: OCKHUIS | D9: EDGEMEAD | E9: 29:13 | F9: MM40 | G9: 8 | H9: P3533
A10: 5 | B10: BRAD | C10: TROUT | D10: FISHHOEK | E10: 30:37 | F10: MM40 | G10: 8 | H10: 6377
A11: 6 | B11: PETER | C11: ADRIAANSE | D11: CASUARINA | E11: 32:09 | F11: MM40 | G11: 8 | H11: P13314
A12: 7 | B12: JASON | C12: BAILEY | D12: SPARTANS | E12: 32:37 | F12: MM40 | G12: 8 | H12: P884
A13: 8 | B13: QAASIM | C13: CHARLES | D13: MP TITANS | E13: 32:43 | F13: MM40 | G13: 8 | H13: 13389
A14: 9 | B14: BRENDAN | C14: RUSSEL | D14: BELLVILLE | E14: 35:16 | F14: MM40 | G14: 8 | H14: 5151
A15: 10 | B15: GARETH | C15: KNOTT | D15: EDGEMEAD | E15: 36:03 | F15: MM40 | G15: 8 | H15: 3165
A16: 11 | B16: MODISAOTSILE | C16: MOSHWESHWE | D16: EERSTERIVER | E16: 36:57 | F16: MM40 | G16: 8 | H16: 12346
A17: 12 | B17: EBER | C17: COLLOP | D17: EDGEMEAD | E17: 40:18 | F17: MM40 | G17: 8 | H17: 3163
A18: 13 | B18: BRANDAN | C18: TITUS | D18: ELSIESRIVER | E18: 40:38 | F18: MM40 | G18: 8 | H18: P5732
A19: 14 | B19: IAN | C19: SWANSON | D19: FISHHOEK | E19: 42:42 | F19: MM40 | G19: 8 | H19: P6373
A20: 15 | B20: ADRIAN | C20: HAYES | D20: FISHHOEK | E20: 58:01 | F20: MM40 | G20: 8 | H20: 6302

Sheet MEN 45-49
A1: ='Cover Page'!A2 -> CROSS COUNTRY LEAGUE 1 - SILVERSTREAM RESORT
A2: ='Cover Page'!A3 -> 45794
A3: Master Men 45-49 8km
A5: POSITION | B5: FIRST NAME | C5: SURNAME | D5: CLUB | E5: TIME | F5: RACE | G5: Km | H5: LICENCE NO
A6: 1 | B6: MORGAN | D6: ELSIESRIVER | E6: 24:59 | F6: MM45 | G6: 8 | H6: 16421
A7: 2 | B7: LUSINDISO | C7: MBULI | D7: HERDERBERG H | E7: 27:15 | F7: MM45 | G7: 8 | H7: 4427
A8: 3 | B8: MICHEAL | C8: GIBSON | D8: FISHHOEK | E8: 28:14 | F8: MM45 | G8: 8 | H8: 6290
A9: 4 | B9: NEIL | C9: BROERS | D9: ATC | E9: 28:52 | F9: MM45 | G9: 8 | H9: 11566
A10: 5 | B10: VAKALISA | C10: KOPOLO | D10: NEDBANK | E10: 30:25 | F10: MM45 | G10: 8 | H10: 1855
A11: 6 | B11: MALCOM | C11: ISAACS | D11: CMC | E11: 30:28 | F11: MM45 | G11: 8 | H11: 14948
A12: 7 | B12: LIONEL | C12: CRONJE | D12: BRACKENFELL | E12: 30:57 | F12: MM45 | G12: 8 | H12: 4310
A13: 8 | B13: RICHMON | C13: MAQENZU | D13: ELSIESRIVER | E13: 31:21 | F13: MM45 | G13: 8 | H13: 5735
A14: 9 | B14: GIBON | C14: NGESANE | D14: FISHHOEK | E14: 32:29 | F14: MM45 | G14: 8 | H14: P6508
A15: 10 | B15: ALFRED | C15: RAMOSHABA | D15: ELSIESRIVER | E15: 33:45 | F15: MM45 | G15: 8 | H15: P5747
A16: 11 | B16: PIERRE | C16: SMIT | D16: EDGEMEAD | E16: 34:37 | F16: MM45 | G16: 8 | H16: 3133
A17: 12 | B17: LUCKY | C17: ZIQWAYI | D17: TSVOB | E17: 35:13 | F17: MM45 | G17: 8 | H17: 1302
A18: 13 | B18: STEFAN | C18: DIENER | D18: STRAND | E18: 35:48 | F18: MM45 | G18: 8 | H18: 2400
A19: 14 | B19: ALASTAIR | C19: RADLOFF | D19: WCAC | E19: 36:50 | F19: MM45 | G19: 8 | H19: 6714
A20: 15 | B20: ROCHEN | C20: DEELIE | D20: EASTERNS KRAAIFONTEIN | E20: 37:45 | F20: MM45 | G20: 8 | H20: 7626
A21: 16 | B21: EMIL | C21: HUTTON | D21: STRAND | E21: 39:44 | F21: MM45 | G21: 8 | H21: P16237
A22: 17 | B22: JACO | C22: BOSMAN | E22: 44:33 | F22: MM45 | G22: 8 | H22: T18490
A23: 18 | B23: JUSTIN | C23: ROSSER | D23: BELLVILLE | E23: 44:36 | F23: MM45 | G23: 8 | H23: P16141
A24: 19 | B24: JUAN | C24: WIESE | D24: CARBINEERS | E24: 1:02:48 | F24: MM45 | G24: 8 | H24: 5025

Sheet MEN 50-54
A1: ='Cover Page'!A2 -> CROSS COUNTRY LEAGUE 1 - SILVERSTREAM RESORT
A2: ='Cover Page'!A3 -> 45794
A3: Master Men 50-54 8km
A5: POSITION | B5: FIRST NAME | C5: SURNAME | D5: CLUB | E5: TIME | F5: RACE | G5: Km | H5: LICENCE NO
A6: 1 | B6: CHUBASCO | C6: JURIES | D6: ITHEKO | E6: 30:40 | F6: MM50 | G6: 8 | H6: 275
A7: 2 | B7: CHARLES | C7: WITBOOI | D7: TSVOB | E7: 31:25 | F7: MM50 | G7: 8 | H7: 1762
A8: 3 | B8: NICHOLAS | C8: MOONSTONE | D8: NEDBANK | E8: 31:45 | F8: MM50 | G8: 8 | H8: 1854
A9: 4 | B9: AWIE | C9: DE SWAR | D9: DURBAC | E9: 33:18 | F9: MM50 | G9: 8 | H9: 6951
A10: 5 | B10: CARLO | C10: JACOBS | D10: KUILSRIVIER | E10: 36:48 | F10: MM50 | G10: 8 | H10: 11242
A11: 6 | B11: LLEWELLYN | C11: COOPER | D11: RESBANK | E11: 41:52 | F11: MM50 | G11: 8 | H11: P13934
A12: 7 | B12: JEFFEREY | C12: LLOYD | D12: RAVENSMEAD | E12: 51:57 | F12: MM50 | G12: 8 | H12: 8450
A13: 8 | B13: KANAKANA | C13: MUSHANGANYISI | D13: PINELANDS | E13: 42:05 | F13: MM50 | G13: 8 | H13: 2650
A14: 9 | B14: BRIAN | C14: VAN WYK | D14: EDGEMEAD | E14: 42:16 | F14: MM50 | G14: 8 | H14: 3399
A15: 10 | B15: WEIGUO | C15: REN | D15: WEST COAST | E15: 43:43 | F15: MM50 | G15: 8 | H15: P6668
A16: 11 | B16: HENDRIK | D16: RAVENSMEAD | E16: 44:11 | F16: MM50 | G16: 8 | H16: P8486
A17: 12 | B17: PATRICK | C17: ANDRIES | D17: EDGEMEAD | E17: 45:59 | F17: MM50 | G17: 8 | H17: 3321
A18: 13 | B18: DAVID | C18: WILCOCK | D18: WEST COAST | E18: 46:04 | F18: MM50 | G18: 8 | H18: 6901
A19: 14 | B19: T | C19: MUSELUA | D19: PARLIAMENT | E19: 48:23 | F19: MM50 | G19: 8 | H19: P12392
A20: 15 | B20: TREVOR | C20: ECKELTON | D20: KUILSRIVIER | E20: 48:28 | F20: MM50 | G20: 8 | H20: 2021
A21: 16 | B21: EDGAR | C21: JULIES | D21: PINELANDS | E21: 51:10 | F21: MM50 | G21: 8 | H21: 2611
A22: 17 | B22: DONAVAN | C22: HARTOGH | D22: PINELANDS | E22: 51:19 | F22: MM50 | G22: 8 | H22: 2871
A23: 18 | B23: GRAEME | C23: SMEDO | D23: EDGEMEAD | E23: 52:28 | F23: MM50 | G23: 8 | H23: 3380

Sheet MEN 55-59
A1: ='Cover Page'!A2 -> CROSS COUNTRY LEAGUE 1 - SILVERSTREAM RESORT
A2: ='Cover Page'!A3 -> 45794
A3: Master Men 55-59 8km
A5: POSITION | B5: FIRST NAME | C5: SURNAME | D5: CLUB | E5: TIME | F5: RACE | G5: Km | H5: LICENCE NO
A6: 1 | B6: GRAHAM | C6: KATZAN | D6: KUILSRIVIER | E6: 30:34 | F6: MM55 | G6: 8 | H6: P14669
A7: 2 | B7: HERMAN | C7: POOLE | D7: HERDERBERG H | E7: 34:20 | F7: MM55 | G7: 8 | H7: 4417
A8: 3 | B8: TIM | C8: LOW | D8: TSVOB | E8: 36:47 | F8: MM55 | G8: 8 | H8: 1402
A9: 4 | B9: DENZIL | C9: JACOBS | D9: PINELANDS | E9: 37:15 | F9: MM55 | G9: 8 | H9: 3007
A10: 5 | B10: M | C10: NYATELA | D10: RCS GUGS | E10: 40:31 | F10: MM55 | G10: 8 | H10: 15920
A11: 6 | B11: DANIE | C11: DE VILLIERS | D11: MELKBOS | E11: 41:18 | F11: MM55 | G11: 8 | H11: 12220
A12: 7 | B12: CHARLES | C12: DE WET | D12: HERDERBERG H | E12: 42:09 | F12: MM55 | G12: 8 | I12: DQ No Licence
A13: 8 | B13: JULIAN | C13: MAGGOT | D13: CELTIC | E13: 42:58 | F13: MM55 | G13: 8 | H13: 3668
A14: 9 | B14: JULIAN | C14: ROSSOUW | D14: SPARTANS | E14: 43:01 | F14: MM55 | G14: 8 | H14: 841
A15: 10 | B15: K. | C15: ENSLIN | D15: EDGEMEAD | E15: 43:22 | F15: MM55 | G15: 8 | H15: 3155
A16: 11 | B16: TREVOR | C16: TWINS | D16: FISHHOEK | E16: 44:04 | F16: MM55 | G16: 8 | H16: 6379
A17: 12 | B17: INDRIN | C17: NAIDO | D17: EDGEMEAD | E17: 44:08 | F17: MM55 | G17: 8 | H17: 3532
A18: 13 | B18: CHRISTO | C18: VERMEULEN | D18: GOODWOOD HARRIES | E18: 44:52 | F18: MM55 | G18: 8 | H18: 2244
A19: 14 | B19: ERIC | C19: NATHAN | D19: FISHHOEK | E19: 45:20 | F19: MM55 | G19: 8 | H19: 6352
A20: 15 | B20: FEZILE | C20: GROOM | D20: SANDF | E20: 46:04 | F20: MM55 | G20: 8 | H20: 13742
A21: 16 | B21: MILE | C21: JENNINGS | D21: FISHHOEK | E21: 47:03 | F21: MM55 | G21: 8 | H21: P6495
A22: 17 | B22: LIONEL | C22: ABRAHAMS | D22: PINELANDS | E22: 48:18 | F22: MM55 | G22: 8 | H22: P2867
A23: 18 | B23: MANDY | C23: SKINNER | D23: EASTERNS KRAAIFONTEIN | E23: 49:08 | F23: MM55 | G23: 8 | H23: 51
A24: 19 | B24: BRUCE | C24: WOOD | D24: WEST COAST | E24: 49:46 | F24: MM55 | G24: 8 | H24: 6922
A25: 20 | B25: CHARLES | C25: KELLAND | D25: PINELANDS | E25: 51:22 | F25: MM55 | G25: 8 | H25: 2724
A26: 21 | B26: MARK | C26: JACOBS | D26: FISHHOEK | E26: 53:06 | F26: MM55 | G26: 8 | H26: 6311
A27: 22 | B27: ANDY | C27: ROPER | D27: FISHHOEK | E27: 53:44 | F27: MM55 | G27: 8 | H27: P6365
A28: 23 | B28: OSCAR | C28: PETERSEN | D28: WILD RUNNER CLUB | E28: 58:00 | F28: MM55 | G28: 8 | H28: P12929
A29: 24 | B29: PETER | C29: ARENDSE | D29: PINELANDS | E29: 1:02:47 | F29: MM55 | G29: 8 | H29: 2767

Sheet MEN 60-64
A1: ='Cover Page'!A2 -> CROSS COUNTRY LEAGUE 1 - SILVERSTREAM RESORT
A2: ='Cover Page'!A3 -> 45794
A3: Master Men 60-64 6km
A5: POSITION | B5: FIRST NAME | C5: SURNAME | D5: CLUB | E5: TIME | F5: RACE | G5: Km | H5: LICENCE NO
A6: 1 | B6: JOHN | C6: SEPTEMBER | D6: ITHEKO | E6: 24:28 | F6: MM60 | G6: 6 | H6: 366
A7: 2 | B7: TOBIAS | C7: PHILANDER | D7: ELSIESRIVER | E7: 24:45 | F7: MM60 | G7: 6 | H7: 5726
A8: 3 | B8: PERCY | C8: KELLY | D8: CASUARINA | E8: 24:52 | F8: MM60 | G8: 6 | H8: 13311
A9: 4 | B9: ROGER | C9: SIMPSON | D9: NEDBANK | E9: 25:39 | F9: MM60 | G9: 6 | H9: 15879
A10: 5 | B10: NEIL | C10: HERMANN | D10: AAC | E10: 26:08 | F10: MM60 | G10: 6 | H10: 11803
A11: 6 | B11: KEVIN | C11: ISACCS | D11: ELSIESRIVER | E11: 28:21 | F11: MM60 | G11: 6 | H11: 5736
A12: 7 | B12: GARY | C12: GREEN | D12: CASUARINA | E12: 28:29 | F12: MM60 | G12: 6 | H12: P13304
A13: 8 | B13: BRANDON | C13: HUGHES | D13: CELTIC H | E13: 28:39 | F13: MM60 | G13: 6 | H13: 3757
A14: 9 | B14: OWEN | C14: HENDRICKS | D14: CELTIC H | E14: 28:57 | F14: MM60 | G14: 6 | H14: 3901
A15: 10 | B15: ALAN | C15: GREEN | D15: WEST COAST | E15: 30:49 | F15: MM60 | G15: 6 | H15: 6562
A16: 11 | B16: JONO | C16: RUMBELOW | D16: AAC | E16: 31:03 | F16: MM60 | G16: 6 | H16: 11695
A17: 12 | B17: EDGAR | C17: RORICH | D17: PINELANDS | E17: 33:25 | F17: MM60 | G17: 6 | H17: 2764
A18: 13 | B18: PETROFSKI | C18: WILLIAMS | D18: AAC | E18: 33:32 | F18: MM60 | G18: 6 | H18: 11893
A19: 14 | B19: DESMOND | C19: ARENDSE | D19: ATLANTIS HARRIERS | E19: 33:42 | F19: MM60 | G19: 6 | H19: 12548
A20: 15 | B20: MALCOLM | C20: COLLINS | D20: TSVOB | E20: 34:34 | F20: MM60 | G20: 6 | H20: 1286
A21: 16 | B21: ANDREW | D21: ATC | E21: 35:04 | F21: MM60 | G21: 6 | H21: 15811
A22: 17 | B22: XIAVIER | C22: LEWIS | D22: KUILSRIVIER | E22: 38:12 | F22: MM60 | G22: 6 | H22: 2059
A23: 18 | B23: ADAM | C23: PAPIER | D23: OMMIEDRAAI | E23: 38:44 | F23: MM60 | G23: 6 | H23: 5999
A24: 19 | B24: SEAN | C24: HARRIS | D24: PINELANDS | E24: 39:19 | F24: MM60 | G24: 6 | H24: 2664
A25: 20 | B25: MOGAMAT | C25: CASSIEM | D25: CASUARINA | E25: 40:09 | F25: MM60 | G25: 6 | H25: 13313
A26: 21 | B26: SAIEDIEN | C26: MILANO | D26: CENTRAL CITY | E26: 46:47 | F26: MM60 | G26: 6 | H26: T18489
A27: 22 | B27: KASHIF | C27: MARAIS | D27: TOPFORM | E27: 56:22 | F27: MM60 | G27: 6 | H27: 15462
A28: 23 | B28: KEITH | C28: SOLOMON | D28: PINELANDS | E28: 1:06:12 | F28: MM60 | G28: 6 | H28: 2935
A29: 24 | B29: PETER | C29: JACOBS | D29: CELTIC H | E29: 1:06:14 | F29: MM60 | G29: 6 | H29: 3870

Sheet MEN 65-69
A1: ='Cover Page'!A2 -> CROSS COUNTRY LEAGUE 1 - SILVERSTREAM RESORT
A2: ='Cover Page'!A3 -> 45794
A3: Master Men 65-69 6km
A5: POSITION | B5: FIRST NAME | C5: SURNAME | D5: CLUB | E5: TIME | F5: RACE | G5: Km | H5: LICENCE NO
A6: 1 | B6: PAUL | C6: CIEVERTS | D6: PINELANDS | E6: 26:45 | F6: MM65 | G6: 6 | H6: 2772
A7: 2 | B7: COLIN | C7: MC GEER | D7: NEDBANK | E7: 29:48 | F7: MM65 | G7: 6 | H7: 1941
A8: 3 | B8: WILSON | C8: BAARTMAN | D8: OLYMPIC SPARTAN HARRIE | E8: 30:01 | F8: MM65 | G8: 6 | H8: 1239
A9: 4 | B9: PATRICK | C9: BENADE | D9: FISH HOEK | E9: 31:21 | F9: MM65 | G9: 6 | H9: 6232
A10: 5 | B10: GREGORY | C10: GUNNEL | D10: PINELANDS | E10: 31:25 | F10: MM65 | G10: 6 | H10: 2955
A11: 6 | B11: RAYMOND | C11: FULLER | D11: TSVOB | E11: 33:10 | F11: MM65 | G11: 6 | H11: 1253
A12: 7 | B12: RALPH | C12: ADAMS | D12: PINELANDS | E12: 34:20 | F12: MM65 | G12: 6 | H12: 2827
A13: 8 | B13: EDWARD | C13: SMITH | D13: FISH HOEK | E13: 41:45 | F13: MM65 | G13: 6 | H13: 6480
A14: 9 | B14: CECIL | C14: VEZASIE | D14: CENTURY CITY | E14: 42:40 | F14: MM65 | G14: 6 | H14: 10784
A15: 10 | B15: HERMAN | C15: SMIT | D15: KUILSRIVIER | E15: 1:00:34 | F15: MM65 | G15: 6 | H15: 2070

Sheet MEN 70+
A1: ='Cover Page'!A2 -> CROSS COUNTRY LEAGUE 1 - SILVERSTREAM RESORT
A2: ='Cover Page'!A3 -> 45794
A3: Master Men 70+ 6km
A5: POSITION | B5: FIRST NAME | C5: SURNAME | D5: CLUB | E5: TIME | F5: RACE | G5: Km | H5: LICENCE NO
A6: 1 | B6: LES | C6: CHIVELL | D6: FISH HOEK | E6: 27:07 | F6: MM70 | G6: 6 | H6: 6254
A7: 2 | B7: NEVILLE | C7: FRIESLICH | D7: FISH HOEK | E7: 30:26 | F7: MM70 | G7: 6 | H7: 6283
A8: 3 | B8: MERVYN | C8: MATALIE | D8: CELTIC H | E8: 31:26 | F8: MM70 | G8: 6 | H8: 3711
A9: 4 | B9: JOHHANNES | C9: JACOBS | D9: CELTIC H | E9: 31:35 | F9: MM70 | G9: 6 | H9: 4126
A10: 5 | B10: HENRY | C10: CLEOPHAS | D10: CELTIC H | E10: 32:34 | F10: MM70 | G10: 6 | H10: 3677
A11: 6 | B11: HORST | C11: SCHEFER | D11: FISH HOEK | E11: 34:49 | F11: MM70 | G11: 6 | H11: 6410
A12: 7 | B12: NEIL | C12: HOPKINS | D12: CELTIC H | E12: 38:48 | F12: MM70 | G12: 6 | H12: 3663
A13: 8 | B13: JEFF | C13: SMITH | D13: PINELANDS | E13: 42:22 | F13: MM70 | G13: 6 | H13: 574
A14: 9 | B14: MERVIN | C14: SMITH | D14: CELTIC H | E14: 44:45 | F14: MM70 | G14: 6 | H14: 3872
A15: 10 | B15: B. | C15: THORNE | D15: PINELANDS | E15: 49:27 | F15: MM70 | G15: 6 | H15: 2979
A16: 11 | B16: KAARE | C16: JAMES | D16: PINELANDS | E16: 50:36 | F16: MM70 | G16: 6 | H16: 2643
A17: 12 | B17: CHRIS | C17: DOONER | D17: FISH HOEK | E17: 59:28 | F17: MM70 | G17: 6 | H17: 91
A18: 13 | B18: THEO | C18: VAN DER MERWE | D18: FISH HOEK | E18: 1:06:12 | F18: MM70 | G18: 6 | H18: T18488
A19: 14 | B19: TONY | C19: WILL | D19: PINELANDS | E19: 1:28:19 | F19: MM70 | G19: 6 | H19: 2649

Sheet G u8
A1: ='Cover Page'!A2 -> CROSS COUNTRY LEAGUE 1 - SILVERSTREAM RESORT
A2: ='Cover Page'!A3 -> 45794
A3: Girls u8 1km
A5: POSITION | B5: FIRST NAME | C5: SURNAME | D5: CLUB | E5: TIME | F5: RACE | G5: Km | H5: LICENCE NO
A6: 1 | B6: JUSTINE | C6: KOLAH | D6: VOORUITSIG | E6: 5:43 | F6: G8 | G6: 1
A7: 2 | B7: MIA | C7: HOMMES | E7: 6:17 | F7: G8 | G7: 1
A8: 3 | B8: CECILIA | C8: DU PREEZ | D8: CAPE HOME EDUCATORS | E8: 6:19 | F8: G8 | G8: 1
A9: 4 | B9: MELODY | C9: DE SWARDT | D9: GIA WALDORF | E9: 6:31 | F9: G8 | G9: 1
A10: 5 | B10: ASANTE | C10: MACK | D10: EVELIN TSHABALALA | E10: 7:06 | F10: G8 | G10: 1
A11: 6 | B11: EYISA | C11: MNQWAZI | D11: RCS GUGS | E11: 7:31 | F11: G8 | G11: 1
A12: 7 | B12: GEMMA-ROSE | D12: EERSTE RIVIER | E12: 7:44 | F12: G8 | G12: 1
A13: 8 | B13: ASEMAHLE | C13: NTUSI | D13: RCS GUGS | E13: 7:57 | F13: G8 | G13: 1
A14: 9 | B14: LOLITHA | C14: DIPHA | D14: RCS GUGS | E14: 8:05 | F14: G8 | G14: 1
A15: 10 | B15: KATE | C15: OCKHUIS | D15: EDGEMEAD RUNNERS | E15: 9:17 | F15: G8 | G15: 1

Sheet G u9
A1: ='Cover Page'!A2 -> CROSS COUNTRY LEAGUE 1 - SILVERSTREAM RESORT
A2: ='Cover Page'!A3 -> 45794
A3: Girls u9 2km
A5: POSITION | B5: FIRST NAME | C5: SURNAME | D5: CLUB | E5: TIME | F5: RACE | G5: Km | H5: LICENCE NO
A6: 1 | B6: FERLENE | C6: WARNICK | D6: VELOCITY | E6: 9:14 | F6: G9 | G6: 2
A7: 2 | B7: GEORGIA | C7: LEHMAN | D7: UWC | E7: 9:41 | F7: G9 | G7: 2
A8: 3 | B8: ZARIAH | C8: TANGO | D8: VELOCITY | E8: 9:51 | F8: G9 | G8: 2
A9: 4 | B9: CARLIA | C9: MOSE | D9: UWC | E9: 9:55 | F9: G9 | G9: 2 | H9: J40438
A10: 5 | B10: LIA | C10: WETTEGREEN | D10: EVERSDAL PS | E10: 0.43680556 | F10: G9 | G10: 2
A11: 6 | B11: ALILISO | C11: NTUSI | D11: RCS GUGS | E11: 0.46597222 | F11: G9 | G11: 2
A12: 7 | B12: JEMIMA | C12: RIGAARD | D12: EERSTE RIVER | E12: 0.47430556 | F12: G9 | G12: 2 | H12: J40908
A13: 8 | B13: NAZHEY | C13: ARRIES | D13: VELOCITY | E13: 0.5 | F13: G9 | G13: 2
A14: 9 | B14: TAMEEKAH | D14: MONTANA PS | E14: 0.50277778 | F14: G9 | G14: 2
A15: 10 | B15: SHEVONTY | D15: LITTLE WOOD | E15: 0.50277778 | F15: G9 | G15: 2
A16: 11 | B16: AVA | C16: RILEY | D16: MELKBOS ATHLETICS CLUB | E16: 0.51666667 | F16: G9 | G16: 2
A17: 12 | B17: THATO | C17: MDEWU | D17: RCS GUGS | E17: 0.52569444 | F17: G9 | G17: 2
A18: 13 | B18: ISIPHILE | C18: MELELI | D18: RCS GUGS | E18: 0.52708333 | F18: G9 | G18: 2
A19: 14 | B19: ABI | C19: SCHUTZ | D19: BEAUMOUNT PS | E19: 0.52847222 | F19: G9 | G19: 2
A20: 15 | B20: LIBRONGO | C20: MAKHULUZA | D20: RCS GUGS | E20: 0.54097222 | F20: G9 | G20: 2
A21: 16 | B21: KAYLEIGH | D21: FISH HOEK | E21: 0.55 | F21: G9 | G21: 2
A22: 17 | B22: LUBANZI | C22: MKEYIYA | D22: RCS GUGS | E22: 0.62083333 | F22: G9 | G22: 2
A23: 18 | B23: ANASHE | C23: MUNAKANDAFA | D23: EDGEMEAD RUNNERS | E23: 0.62222222 | F23: G9 | G23: 2

Sheet G u10
A1: ='Cover Page'!A2 -> CROSS COUNTRY LEAGUE 1 - SILVERSTREAM RESORT
A2: ='Cover Page'!A3 -> 45794
A3: Girls u10 2km
A5: POSITION | B5: FIRST NAME | C5: SURNAME | D5: CLUB | E5: TIME | F5: RACE | G5: Km | H5: LICENCE NO
A6: 1 | B6: AMRU | C6: HENDRICKS | D6: WCIR | E6: 8:42 | F6: G10 | G6: 2
A7: 2 | B7: NICOLENE | C7: SCHIETEKAT | D7: DURBANVILLE | E7: 0.39791667 | F7: G10 | G7: 2 | H7: J41263
A8: 3 | B8: LUNATHI | C8: MENZEIA | D8: RCS GUGS | E8: 9:43 | F8: G10 | G8: 2
A9: 4 | B9: MURCHAY | C9: ADAMS | D9: VELOCITY | E9: 9:47 | F9: G10 | G9: 2
A10: 5 | B10: LIRA | C10: PLAATJIES | D10: DURBANVILLE | E10: 9:58 | F10: G10 | G10: 2 | H10: J41260
A11: 6 | B11: TYCA | D11: MONTANA PS | E11: 0.44444444 | F11: G10 | G11: 2
A12: 7 | B12: DANIELE | C12: FORTUIN | D12: DURBANVILLE | E12: 0.47847222 | F12: G10 | G12: 2 | H12: J41250
A13: 8 | B13: VELNA | C13: SIAS | D13: VELOCITY | E13: 0.49583333 | F13: G10 | G13: 2
A14: 9 | B14: KENDALL | D14: MONTANA PS | E14: 0.49652778 | F14: G10 | G14: 2
A15: 10 | B15: MISCHA | C15: PHIGELAND | D15: VELOCITY | E15: 0.49722222 | F15: G10 | G15: 2

Sheet G u11
A1: ='Cover Page'!A2 -> CROSS COUNTRY LEAGUE 1 - SILVERSTREAM RESORT
A2: ='Cover Page'!A3 -> 45794
A3: Girls u11 3km
A5: POSITION | B5: FIRST NAME | C5: SURNAME | D5: CLUB | E5: TIME | F5: RACE | G5: Km | H5: LICENCE NO
A6: Position | B6: Name | C6: Surname | D6: CLUB | E6: TIME | F6: RACE | G6: KM | H6: LICENSE
A7: 1 | B7: MEGAN | C7: LOUWRENS | D7: BELLVILLE AC | E7: 13:45 | F7: G11 | G7: 3 | H7: J40655
A8: 2 | B8: ROBYN | C8: LAKEY | D8: ATC | E8: 13:47 | F8: G11 | G8: 3 | H8: J401146
A9: 3 | B9: INKE | C9: BOSMAN | D9: EVERSDAL PS | E9: 0.63125 | F9: G11 | G9: 3
A10: 4 | B10: KAYLIN | D10: MONTANA PS | E10: 0.67777778 | F10: G11 | G10: 3
A11: 5 | B11: TAMIA | D11: MONTANA PS | E11: 0.6875 | F11: G11 | G11: 3
A12: 6 | B12: MASEGO | C12: MACK | D12: EVELIN PS | E12: 0.69375 | F12: G11 | G12: 3
A13: 7 | B13: JAYDINE | C13: JULIES | D13: DURBAC | E13: 0.825 | F13: G11 | G13: 3 | H13: J41254
A14: 8 | B14: SKYLER | C14: DU PLOOY | D14: DURBAC | E14: 0.86944444 | F14: G11 | G14: 3 | H14: J41269
A15: 9 | B15: KUNGAWO | C15: NTOZAKE | D15: RCS GUS | E15: 0.90069444 | F15: G11 | G15: 3 | H15: J40283
A16: 10 | B16: SIYANDA | C16: NHACA | D16: RCS GUS | E16: 0.90138889 | F16: G11 | G16: 3

Sheet G u12
A1: ='Cover Page'!A2 -> CROSS COUNTRY LEAGUE 1 - SILVERSTREAM RESORT
A2: ='Cover Page'!A3 -> 45794
A3: Girls u12 3km
A5: POSITION | B5: FIRST NAME | C5: SURNAME | D5: CLUB | E5: TIME | F5: RACE | G5: Km | H5: LICENCE NO
A6: 1 | B6: EVA | C6: HANEKOM | D6: FISHHOEK | E6: 12:43 | F6: G12 | G6: 3 | H6: J40191
A7: 2 | B7: FENECIA | C7: MEROEN | D7: VELOCITY | E7: 13:37 | F7: G12 | G7: 3
A8: 3 | B8: CLOE | C8: ADAMS | D8: VELOCITY | E8: 14:25 | F8: G12 | G8: 3
A9: 4 | B9: ROBIN | C9: ABRAHAMS | D9: EASTERNS KRAAIFONTEIN AC | E9: 14:45 | F9: G12 | G9: 3 | H9: J4O340
A10: 5 | B10: CLEO | C10: ADAMS | D10: VELOCITY | E10: 14:49 | F10: G12 | G10: 3
A11: 6 | B11: INGONATHI | C11: MALIMA | D11: DURBAC | E11: 0.67638889 | F11: G12 | G11: 3 | H11: J41253
A12: 7 | B12: HANNAH | C12: JENNIKER | D12: WCAC | E12: 0.68263889 | F12: G12 | G12: 3
A13: 8 | B13: ABBY | C13: WYLBACH | D13: UWC | E13: 0.68888889 | F13: G12 | G13: 3 | H13: J40552
A14: 9 | B14: PHULICIA | C14: NOVEMBER | D14: DURBAC | E14: 0.70277778 | F14: G12 | G14: 3 | H14: J41264
A15: 10 | B15: ILONTAY | D15: MONTANA PS | E15: 0.72152778 | F15: G12 | G15: 3
A16: 11 | B16: ABBY | C16: WITBOOI | D16: VELOCITY | E16: 0.74791667 | F16: G12 | G16: 3
A17: 12 | B17: DWAYNIQUE | C17: BRUINTJIES | D17: VELOCITY | E17: 0.74861111 | F17: G12 | G17: 3
A18: 13 | B18: ANASTACIA | C18: FREDERICKS | D18: DURBAC | E18: 0.75416667 | F18: G12 | G18: 3
A19: 14 | B19: THANDALWETHU | C19: NDUDULA | D19: RCS GUS | E19: 0.75833333 | F19: G12 | G19: 3
A20: 15 | B20: ANNE | C20: DU PREEZ | D20: CAPETOWN EDUCATORS | E20: 0.75972222 | F20: G12 | G20: 3
A21: 16 | B21: REARABETSOE | D21: DURBAC | E21: 0.83125 | F21: G12 | G21: 3 | H21: J41265
A22: 17 | B22: IMAAN | D22: MONTANA PS | E22: 0.85694444 | F22: G12 | G22: 3
A23: 18 | B23: LEONIE | D23: MONTANA PS | E23: 0.86597222 | F23: G12 | G23: 3
A24: 19 | B24: AISHIA | C24: MATTHEWS | D24: HADIVALL PS | E24: 0.92916667 | F24: G12 | G24: 3

Sheet G u13
A1: ='Cover Page'!A2 -> CROSS COUNTRY LEAGUE 1 - SILVERSTREAM RESORT
A2: ='Cover Page'!A3 -> 45794
A3: Girls u13 3km
A5: POSITION | B5: FIRST NAME | C5: SURNAME | D5: CLUB | E5: TIME | F5: RACE | G5: Km | H5: LICENCE NO
A6: 1 | B6: TAZLYN | C6: MEIRING | D6: UWC | E6: 12:15 | F6: G13 | G6: 3 | H6: J40972
A7: 2 | B7: CHRISTINE | C7: DOOLING | D7: EERSTERIVER | E7: 12:58 | F7: G13 | G7: 3 | H7: T
A8: 3 | B8: VERONIQUE | C8: FULLER | D8: EERSTERIVER | E8: 14:03 | F8: G13 | G8: 3 | H8: J40460
A9: 4 | B9: LEIGH | C9: BURKE | D9: EERSTERIVER | E9: 0.62430556 | F9: G13 | G9: 3 | H9: J40326
A10: 5 | B10: GABRIELLA | C10: JOHNSTON | D10: UWC | E10: 0.65069444 | F10: G13 | G10: 3 | H10: J40699
A11: 6 | B11: MONILISA | C11: WILLIAMS | D11: EERSTERIVER | E11: 0.69305556 | F11: G13 | G11: 3 | H11: T29505
A12: 7 | B12: JAYDEE-ANN | C12: CLEOPHAS | D12: VELOCITY | E12: 0.70625 | F12: G13 | G12: 3
A13: 8 | B13: NOMSA | C13: MAKUKWA | D13: RCS GUS | E13: 0.71319444 | F13: G13 | G13: 3 | H13: J40919
A14: 9 | B14: NICOLE | D14: MONTANA PS | E14: 0.71736111 | F14: G13 | G14: 3
A15: 10 | B15: EZRA-LEE | D15: MONTANA PS | E15: 0.71875 | F15: G13 | G15: 3
A16: 11 | B16: TEYANA | D16: MONTANA PS | E16: 0.72777778 | F16: G13 | G16: 3
A17: 12 | B17: FAZEEKA | D17: MONTANA PS | E17: 0.85763889 | F17: G13 | G17: 3
A18: 13 | B18: NASHLEY | C18: SEPTEMBER | D18: DURBAC | E18: 0.85833333 | F18: G13 | G18: 3 | H18: J41262
A19: 14 | B19: RENICA | C19: PRINS | D19: DURBAC | E19: 0.8625 | F19: G13 | G19: 3 | H19: J41266
A20: 15 | B20: INSAAF | D20: MONTANA PS | E20: 0.87986111 | F20: G13 | G20: 3
A21: 16 | B21: SIKHO | C21: FANISHE | D21: DURBAC | E21: 0.96319444 | F21: G13 | G21: 3 | H21: J41268
A22: 17 | B22: ABENATHI | C22: BOOI | D22: DURBAC | E22: 0.96388889 | F22: G13 | G22: 3 | H22: J41246
A23: 18 | B23: LIENKE | C23: BOER | D23: CURRO DURBANVILLE | E23: 0.66736111 | G23: 3

Sheet G u14
A1: ='Cover Page'!A2 -> CROSS COUNTRY LEAGUE 1 - SILVERSTREAM RESORT
A2: ='Cover Page'!A3 -> 45794
A3: Girls u14 4km
A5: POSITION | B5: FIRST NAME | C5: SURNAME | D5: CLUB | E5: TIME | F5: RACE | G5: Km | H5: LICENCE NO
A6: 1 | B6: ROSE | C6: MURPHY | D6: EASTERN KRAAIFONTEIN | E6: 16:33 | F6: G14 | G6: 4 | H6: J41011
A7: 2 | B7: ANIKA | C7: BOSMAN | D7: BAC | E7: 18:00 | F7: G14 | G7: 4 | I7: DQ No Licence
A8: 3 | B8: MECAELAH | C8: SCHIPPERS | D8: NEDBANK | E8: 18:16 | F8: G14 | G8: 4 | H8: J40353
A9: 4 | B9: ELENA | C9: SCOTMAN | D9: UWC | E9: 18:25 | F9: G14 | G9: 4 | H9: J40712
A10: 5 | B10: SKYLAH | C10: LEKCHAROENSEK | D10: UWC | E10: 19:00 | F10: G14 | G10: 4 | I10: DQ No Licence
A11: 6 | B11: KIMLYN | C11: LENDIS | D11: VELOCITY | E11: 19:53 | F11: G14 | G11: 4 | I11: DQ No Licence
A12: 7 | B12: RUA | C12: DE WIT | D12: DURBAC | E12: 20:17 | F12: G14 | G12: 4 | H12: J41170
A13: 8 | B13: ALIYAAH | C13: GORDON | D13: UWC | E13: 21:40 | F13: G14 | G13: 4 | H13: J41029
A14: 9 | B14: LOSHANKE | C14: TILLIURG | D14: VELOCITY | E14: 24:54 | F14: G14 | G14: 4 | I14: DQ No Licence
A15: 10 | B15: TORAH | C15: TITUS | D15: UWC | E15: 27:26 | F15: G14 | G15: 4 | H15: J40701
A16: 11 | B16: HLELO | C16: NTOZAKREE | D16: RCS GUGS | E16: 34:19 | F16: G14 | G16: 4 | H16: J40884

Sheet G u15
A1: ='Cover Page'!A2 -> CROSS COUNTRY LEAGUE 1 - SILVERSTREAM RESORT
A2: ='Cover Page'!A3 -> 45794
A3: Girls u15 4km
A5: POSITION | B5: FIRST NAME | C5: SURNAME | D5: CLUB | E5: TIME | F5: RACE | G5: Km | H5: LICENCE NO
A6: 1 | B6: RUBY | C6: READ | D6: AAC | E6: 15:26 | F6: G15 | G6: 4 | H6: J40295
A7: 2 | B7: LILLIE | C7: PAQUET | D7: HELDERBERG HARRIERS | E7: 17:13 | F7: G15 | G7: 4 | H7: J40585
A8: 3 | B8: NICA | C8: DE VILLIERS | D8: BRACKENFELL | E8: 19:03 | F8: G15 | G8: 4 | H8: J40057
A9: 4 | B9: SHANTE | C9: FREDERICKS | D9: VELOCITY | E9: 19:15 | F9: G15 | G9: 4 | H9: J40732
A10: 5 | B10: ROBYN | C10: DALY | D10: KUILSRIVIER | E10: 19:30 | F10: G15 | G10: 4 | H10: J40023
A11: 6 | B11: ASHANTE | C11: PITUS | D11: ELSIESRIVIER | E11: 20:55 | F11: G15 | G11: 4 | H11: J40687
A12: 7 | B12: SASHA | C12: KORAH | D12: VELOCITY | E12: 22:25 | F12: G15 | G12: 4 | I12: DQ No Licence
A13: 8 | B13: ATHANDIWE | C13: MGQOBOKA | D13: RCS GUGS | E13: 22:37 | F13: G15 | G13: 4 | H13: J41099
A14: 9 | B14: TAMARYN | C14: WITBOOI | D14: BOTTELARY | E14: 24:00 | F14: G15 | G14: 4 | H14: J40889
A15: 10 | B15: HANNAH | C15: BRINK | D15: HELDERBERG HARRIERS | E15: 24:06 | F15: G15 | G15: 4 | H15: J40600
A16: 11 | B16: ASHLEY | C16: THOMPSON | D16: FISH HOEK | E16: 37:11 | F16: G15 | G16: 4 | H16: T29517

Sheet G u16
A1: ='Cover Page'!A2 -> CROSS COUNTRY LEAGUE 1 - SILVERSTREAM RESORT
A2: ='Cover Page'!A3 -> 45794
A3: Girls u16 4km
A5: POSITION | B5: FIRST NAME | C5: SURNAME | D5: CLUB | E5: TIME | F5: RACE | G5: Km | H5: LICENCE NO
A6: 1 | B6: YONELISA | C6: SIWA | D6: TYME BANK | E6: 0.64930556 | F6: G16 | G6: 4 | H6: J40993
A7: 2 | B7: KEIRA | C7: BOTTOMLEY | D7: TSVOB | E7: 0.69027778 | F7: G16 | G7: 4 | H7: J40003
A8: 3 | B8: NINA | C8: SMOOK | D8: BELVILLE | E8: 0.71319444 | F8: G16 | G8: 4 | H8: J40403
A9: 4 | B9: CHARA | C9: DE WIT | D9: DURBAC | E9: 0.71875 | F9: G16 | G9: 4 | H9: J41172
A10: 5 | B10: ZARAH | C10: LEWIS | D10: NEDBANK | E10: 0.74305556 | F10: G16 | G10: 4 | H10: J41313
A11: 6 | B11: ELLE | C11: SMOOK | D11: BELVILLE | E11: 0.76597222 | F11: G16 | G11: 4 | H11: J40404
A12: 7 | B12: KATE | C12: VAN ZYL | D12: TSVOB | E12: 0.80763889 | F12: G16 | G12: 4 | H12: J40011
A13: 8 | B13: IMENGK | C13: NOMNGANGA | D13: KHAYELITSHA | E13: 0.80972222 | F13: G16 | G13: 4 | H13: J40792
A14: 9 | B14: JENAY | C14: BOOYSEN | D14: BOTTELARY | E14: 0.86944444 | F14: G16 | G14: 4 | H14: J40885
A15: 10 | B15: NYELAH | D15: UWC | E15: 0.8875 | F15: G16 | G15: 4 | H15: 29513
B17: KAMVELIHLE | C17: PIEDT | D17: DURBAC | E17: 0.66666667 | F17: G14 | G17: 4 | H17: J41257

Sheet G u17
A1: ='Cover Page'!A2 -> CROSS COUNTRY LEAGUE 1 - SILVERSTREAM RESORT
A2: ='Cover Page'!A3 -> 45794
A3: Girls u17 4km
A5: POSITION | B5: FIRST NAME | C5: SURNAME | D5: CLUB | E5: TIME | F5: RACE | G5: Km | H5: LICENCE NO
A6: 1 | B6: SELMARIE | C6: ERASMUS | D6: HELDERBERG HARRIERS | E6: 0.65625 | F6: G17 | G6: 4 | H6: 31
A7: 2 | B7: TEAGAN | C7: HUDSON | D7: FISHHOEK | E7: 0.69513889 | F7: G17 | G7: 4 | H7: J40193
A8: 3 | B8: SINOXOLO | C8: JYINGUBO | D8: TYME BANK | E8: 0.72083333 | F8: G17 | G8: 4 | H8: J40994
A9: 4 | B9: ALIVE | C9: MENZIWA | D9: ATC | E9: 0.73402778 | F9: G17 | G9: 4 | H9: J41075
A10: 5 | B10: SINALO | C10: YOBO | D10: KHAYELITSHA | E10: 0.76736111 | F10: G17 | G10: 4 | H10: J40806
A11: 6 | B11: WAQILAH | C11: VERMAAK | D11: MITCHELLEPLAIN TITANS | E11: 0.85277778 | F11: G17 | G11: 4 | H11: J40773
A12: 7 | B12: AQILAH | C12: VERMAAK | D12: MITCHELLEPLAIN TITANS | E12: 0.86527778 | F12: G17 | G12: 4 | H12: J40774

Sheet WOMEN 35-39
A1: ='Cover Page'!A2 -> CROSS COUNTRY LEAGUE 1 - SILVERSTREAM RESORT
A2: ='Cover Page'!A3 -> 45794
A3: Master Women 35-39 4km
A5: POSITION | B5: FIRST NAME | C5: SURNAME | D5: CLUB | E5: TIME | F5: RACE | G5: Km | H5: LICENCE NO
A6: 1 | B6: ELRETHA | C6: BURGER | D6: BELVILLE AC | E6: 17:10 | F6: MW35 | G6: 4 | H6: 5167
A7: 2 | B7: BIANCA | C7: COETZEE | D7: BELVILLE AC | E7: 18:37 | F7: MW35 | G7: 4 | H7: 5332
A8: 3 | B8: ENRONECIA | C8: WILLIAMS | D8: S.A.P.S | E8: 19:00 | F8: MW35 | G8: 4 | H8: 14815
A9: 4 | B9: ANNESTASIA | C9: FORTUIN | D9: PINELANDS | E9: 22:11 | F9: MW35 | G9: 4 | H9: 2847
A10: 5 | B10: TARYN | C10: ACKERBERG | D10: EDGEMEAD RUNNERS | E10: 26:44 | F10: MW35 | G10: 4 | H10: 3400
A11: 6 | B11: KIM | C11: ARCHARU | D11: WESTCOAST | E11: 30:48 | F11: MW35 | G11: 4 | H11: 15995
A12: 7 | B12: KARREN | C12: NORRIS | D12: EDGEMEAD RUNNERS | E12: 33:17 | F12: MW35 | G12: 4 | H12: 3292
A13: 8 | B13: MICHELLE | C13: MUNAKANDAFU | D13: EDGEMEAD RUNNERS | E13: 41:34 | F13: MW35 | G13: 4 | H13: 3238

Sheet WOMEN 40-44
A1: ='Cover Page'!A2 -> CROSS COUNTRY LEAGUE 1 - SILVERSTREAM RESORT
A2: ='Cover Page'!A3 -> 45794
A3: Master Women 40-44 4km
A5: POSITION | B5: FIRST NAME | C5: SURNAME | D5: CLUB | E5: TIME | F5: RACE | G5: Km | H5: LICENCE NO
A6: 1 | B6: EMMERANTHIA | C6: LEPATI | D6: ELSIESRIVER | E6: 16:13 | F6: MW40 | G6: 4 | H6: 57728
A7: 2 | B7: CARMELITA | C7: AFRICA | D7: EDGEMEAD RUNNERS | E7: 17:21 | F7: MW40 | G7: 4 | H7: 3300
A8: 3 | B8: RIDWANA | C8: BABAMIA | D8: ATC RUNNING | E8: 17:37 | F8: MW40 | G8: 4 | H8: 16350
A9: 4 | B9: DEIDRE | C9: DAVIDS | D9: KUILSRIVIER | E9: 20:45 | F9: MW40 | G9: 4 | H9: 2012
A10: 5 | B10: DOROTHY | C10: BREED | D10: MELKBOS AC | E10: 21:28 | F10: MW40 | G10: 4 | H10: 12289
A11: 6 | B11: SYDLYN | C11: NAIDOO | D11: EDGEMEAD RUNNERS | E11: 21:29 | F11: MW40 | G11: 4 | H11: 3496
A12: 7 | B12: LIZE | C12: ENGELBRECHT | D12: HELDERBERG HARRIES | E12: 21:30 | F12: MW40 | G12: 4 | H12: 4487
A13: 8 | B13: ANTHEA | C13: GANGER | D13: TOPFORM AC | E13: 22:06 | F13: MW40 | G13: 4 | H13: 10667
A14: 9 | B14: DEMELLE | C14: WILLIAMS | D14: ATLANTIC AC | E14: 26:22 | F14: MW40 | G14: 4 | H14: 11891
A15: 10 | B15: LISA | C15: PILLAY | D15: PINELANDS | E15: 27:38 | F15: MW40 | G15: 4 | H15: 2783
A16: 11 | B16: SIPHOKAZI | C16: NDILA | D16: RCS GUGS | E16: 28:18 | F16: MW40 | G16: 4 | H16: 10653
A17: 12 | B17: MEGAN | C17: CARLSON | D17: MITCHELLS PLAIN TITIANS | E17: 28:45 | F17: MW40 | G17: 4 | H17: 14654
A18: 13 | B18: DEIDRE | C18: POOVAN | D18: DURBAC | E18: 35:55 | F18: MW40 | G18: 4 | H18: 7360

Sheet WOMEN 45-49
A1: ='Cover Page'!A2 -> CROSS COUNTRY LEAGUE 1 - SILVERSTREAM RESORT
A2: ='Cover Page'!A3 -> 45794
A3: Master Women 45-49 4km
A5: POSITION | B5: FIRST NAME | C5: SURNAME | D5: CLUB | E5: TIME | F5: RACE | G5: Km | H5: LICENCE NO
A6: 1 | B6: ANNELINE | C6: ROFFEY | D6: TYGERBURG AC | E6: 16:11 | F6: MW45 | G6: 4 | H6: 10208
A7: 2 | B7: ROLANDI | C7: SCHUTTE | D7: NEDBANK | E7: 16:49 | F7: MW45 | G7: 4 | H7: 1931
A8: 3 | B8: TANYA | C8: POSTHUMUS-FOX | D8: NEDBANK | E8: 17:07 | F8: MW45 | G8: 4 | H8: 1936
A9: 4 | B9: LEEANNE | C9: PIENAAR | D9: NEDBANK | E9: 20:15 | F9: MW45 | G9: 4 | H9: 1976
A10: 5 | B10: NICOLETTE | C10: FURNESS | D10: FISHHOEK | E10: 22:21 | F10: MW45 | G10: 4 | H10: 6285
A11: 6 | B11: ANNELIZE | C11: VAN NIEKERK | D11: FISHHOEK | E11: 23:09 | F11: MW45 | G11: 4 | H11: 6383
A12: 7 | B12: CATHERINE | C12: RONAASEN | D12: CENTURY CITY | E12: 23:20 | F12: MW45 | G12: 4 | H12: 10901
A13: 8 | B13: NOBUNTU | C13: MGQOBOKA | D13: RCS GUGS | E13: 23:41 | F13: MW45 | G13: 4 | H13: 54
A14: 9 | B14: COLLEEN | C14: CROSS | D14: EDGEMEAD RUNNERS | E14: 30:11 | F14: MW45 | G14: 4 | H14: 3377
A15: 10 | B15: FATIMA | C15: KHAN | D15: PINELANDS | E15: 30:53 | F15: MW45 | G15: 4 | H15: 2684
A16: 11 | B16: VIWO | C16: MSUTHU | D16: KHAYELITSHA | E16: 36:33 | F16: MW45 | G16: 4 | H16: 7579
A17: 12 | B17: LAUREN | C17: THORNE | D17: PINELANDS | E17: 41:38 | F17: MW45 | G17: 4 | H17: 2782

Sheet WOMEN 50-54
A1: ='Cover Page'!A2 -> CROSS COUNTRY LEAGUE 1 - SILVERSTREAM RESORT
A2: ='Cover Page'!A3 -> 45794
A3: Master Women 50-54 4km
A5: POSITION | B5: FIRST NAME | C5: SURNAME | D5: CLUB | E5: TIME | F5: RACE | G5: Km | H5: LICENCE NO
A6: 1 | B6: MARILIZE | C6: VIENNINGS | D6: EDGEMEAD RUNNERS | E6: 17:27 | F6: MW50 | G6: 4 | H6: 3355
A7: 2 | B7: SHARON | C7: NEL | D7: WESTCOAST | E7: 17:34 | F7: MW50 | G7: 4 | H7: 6881
A8: 3 | B8: BUSISIWE | C8: MATIWANE | D8: RCS GUGS | E8: 18:28 | F8: MW50 | G8: 4 | H8: 10365
A9: 4 | B9: TYSHIA | C9: JOHANNES | D9: RCS GUGS | E9: 20:16 | F9: MW50 | G9: 4 | H9: 10449
A10: 5 | B10: JILL | C10: LATEGAN | D10: EDGEMEAD RUNNERS | E10: 22:00 | F10: MW50 | G10: 4 | H10: 57
A11: 6 | B11: ALVINA | C11: DE KOKER | D11: SPARTAN HARRIERS | E11: 22:33 | F11: MW50 | G11: 4 | H11: 783
A12: 7 | B12: FELICIA | C12: HUGO | D12: NANTES | E12: 23:07 | F12: MW50 | G12: 4 | H12: 5556
A13: 8 | B13: CHRISTINA | C13: WELKOM | D13: WCIR | E13: 26:35 | F13: MW50 | G13: 4 | H13: 16065
A14: 9 | B14: LEE-ANN | C14: HARRIS | D14: PINELANDS | E14: 27:23 | F14: MW50 | G14: 4 | H14: 3003
A15: 10 | B15: MARYKE | C15: COLLINS | D15: EDGEMEAD RUNNERS | E15: 28:03 | F15: MW50 | G15: 4 | H15: 3112
A16: 11 | B16: DELORES | C16: CLOETE | D16: EDGEMEAD RUNNERS | E16: 28:36 | F16: MW50 | G16: 4 | H16: 3189
A17: 12 | B17: NEV | C17: PETERSEN | D17: EDGEMEAD RUNNERS | E17: 30:43 | F17: MW50 | G17: 4 | H17: 3171
... A22: 17 | B22: NUHRAAN | C22: KALAM | D22: NANTES | E22: 41:31 | F22: MW50 | G22: 4 | H22: 5612

Sheet WOMEN 55-59
A1: ='Cover Page'!A2 -> CROSS COUNTRY LEAGUE 1 - SILVERSTREAM RESORT
A2: ='Cover Page'!A3 -> 45794
A3: Master Women 55-59 4km
A5: POSITION | B5: FIRST NAME | C5: SURNAME | D5: CLUB | E5: TIME | F5: RACE | G5: Km | H5: LICENCE NO
A6: 1 | B6: LYNN | C6: DAVIS | D6: AAC | E6: 17:59 | F6: MW55 | G6: 4 | H6: 11808
A7: 2 | B7: GLENDA | C7: HENSLEY | D7: FISHHOEK | E7: 21:41 | F7: MW55 | G7: 4 | H7: 6303
A8: 3 | B8: NATASHA | C8: VAN ZYL | D8: HELDERBERG HARRIES | E8: 22:41 | F8: MW55 | G8: 4 | H8: 4444
A9: 4 | B9: SALLY | C9: RUPARE | D9: FISHHOEK | E9: 25:08 | F9: MW55 | G9: 4 | H9: 6447
A10: 5 | B10: ROSE | C10: SUTCLIFFE | D10: CELTIC | E10: 25:57 | F10: MW55 | G10: 4 | H10: 3888
A11: 6 | B11: INGRID | C11: WAMINGTON | D11: FISHHOEK | E11: 26:14 | F11: MW55 | G11: 4 | H11: 6417
A12: 7 | B12: MARILYN | C12: KORICH | D12: PINELANDS | E12: 27:17 | F12: MW55 | G12: 4 | H12: 2967
A13: 8 | B13: MELANY | C13: DU PLESSIS | D13: PINELANDS | E13: 27:22 | F13: MW55 | G13: 4 | H13: 2621
A14: 9 | B14: CATHERINE | C14: SHORE | D14: PINELANDS | E14: 28:29 | F14: MW55 | G14: 4 | H14: 2770
A15: 10 | B15: THERESA | C15: RENNIE | D15: TSVOB | E15: 29:14 | F15: MW55 | G15: 4 | H15: 1319
A16: 11 | B16: KAREN | C16: JACOBS | D16: FISHHOEK | E16: 29:24 | F16: MW55 | G16: 4 | H16: 6310
A17: 12 | B17: WENDY | C17: JANSEN | D17: EDGEMEAD RUNNERS | E17: 30:09 | F17: MW55 | G17: 4 | H17: 3141
... A21: 16 | B21: MERCIA | C21: SMITH | D21: PINELANDS | E21: 37:37 | F21: MW55 | G21: 4 | H21: 2667
A22: 17 | B22: NADEEMA | D22: PINELANDS | E22: 37:44 | F22: MW55 | G22: 4 | H22: 2719

Sheet WOMEN 60-64
A1: ='Cover Page'!A2 -> CROSS COUNTRY LEAGUE 1 - SILVERSTREAM RESORT
A2: ='Cover Page'!A3 -> 45794
A3: Master Women 60-64 4km
A5: POSITION | B5: FIRST NAME | C5: SURNAME | D5: CLUB | E5: TIME | F5: RACE | G5: Km | H5: LICENCE NO
A6: 1 | B6: ESTER | C6: BRINK | D6: BOXER | E6: 18:22 | F6: MW60 | G6: 4 | H6: 2564
A7: 2 | B7: ZAKARIAN | C7: GRIEF | D7: MELKBOS AC | E7: 20:24 | F7: MW60 | G7: 4 | H7: 12224
A8: 3 | B8: EDNA | C8: YTIER | D8: HELDERBERG HARRIES | E8: 20:41 | F8: MW60 | G8: 4 | H8: 4545
A9: 4 | B9: LOUISE | C9: KUMM | D9: WCAC | E9: 22:23 | F9: MW60 | G9: 4 | H9: 6669
A10: 5 | B10: MERSHELL | C10: JOHNSON | D10: EASTERNS KRAAIFONTEIN | E10: 22:45 | F10: MW60 | G10: 4 | H10: 7622
A11: 6 | B11: MATILDA | C11: KILIAN | D11: FISHHOEK | E11: 23:52 | F11: MW60 | G11: 4 | H11: 64
A12: 7 | B12: JAQELINE | C12: LOYDELL | D12: FISHHOEK | E12: 24:46 | F12: MW60 | G12: 4 | H12: 6334
A13: 8 | B13: KIM | C13: LAMB | D13: EDGEMEAD RUNNERS | E13: 26:27 | F13: MW60 | G13: 4 | H13: 3330
A14: 9 | B14: DELYSE | C14: RIST | D14: PINELANGS | E14: 26:48 | F14: MW60 | G14: 4 | H14: 2662
A15: 10 | B15: VANESSA | C15: HEUVEL | D15: SPARTAN HARRIERS | E15: 27:08 | F15: MW60 | G15: 4 | H15: 878
A16: 11 | B16: SHARON | C16: WILLIAMS | D16: SPARTAN HARRIERS | E16: 28:52 | F16: MW60 | G16: 4 | H16: 981
A17: 12 | B17: LYNETTE | C17: KING | D17: WCAC | E17: 28:58 | F17: MW60 | G17: 4 | H17: 6789
... A33: 28 | B33: FALDEELAH | C33: DALOMAE | D33: HEWAT AC | E33: 41:49 | F33: MW60 | G33: 4 | H33: 12519
A34: 29 | B34: NELISWA | C34: NTUSI | D34: RCS GUGS | E34: 44:18 | F34: MW60 | G34: 4
A35: 30 | I35: DQ No Licence

Sheet WOMEN 65-69
A1: ='Cover Page'!A2 -> CROSS COUNTRY LEAGUE 1 - SILVERSTREAM RESORT
A2: ='Cover Page'!A3 -> 45794
A3: Master Women 65-69 4km
A5: POSITION | B5: FIRST NAME | C5: SURNAME | D5: CLUB | E5: TIME | F5: RACE | G5: Km | H5: LICENCE NO
A6: 1 | B6: DEE | C6: SMALE | D6: TSVOB | E6: 18:44 | F6: MW65 | G6: 4 | H6: 1358
A7: 2 | B7: OLGA | C7: HOWARD | D7: ELSIESRIVER | E7: 20:59 | F7: MW65 | G7: 4 | H7: 5750
A8: 3 | B8: LOLLOS | C8: RODSETH | D8: DURBAC | E8: 0.88333333 | F8: MW65 | G8: 4 | H8: 6959
A9: 4 | B9: NICKY | C9: ANDREWS | D9: EDGEMEAD RUNNERS | E9: 22:27 | F9: MW65 | G9: 4 | H9: 3500
A10: 5 | B10: SONIA | C10: SMITH | D10: CELTIC | E10: 22:32 | F10: MW65 | G10: 4 | H10: 3869
A11: 6 | B11: CECILIA | D11: NANTES | E11: 22:35 | F11: MW65 | G11: 4 | H11: 5557
A12: 7 | B12: JEANINE | C12: KOOPMAN | D12: TSVOB | E12: 23:03 | F12: MW65 | G12: 4 | H12: 1688
A13: 8 | B13: BEV | C13: CHARTERS | D13: TSVOB | E13: 23:29 | F13: MW65 | G13: 4 | H13: 1370
A14: 9 | B14: MANUELA | C14: PATTERSON | D14: CENTURY CITY | E14: 24:07 | F14: MW65 | G14: 4 | H14: 10749
A15: 10 | B15: DENISE | C15: JOHANNES | D15: OLYMPIC SPARTANS HARRIERS | E15: 25:32 | F15: MW65 | G15: 4 | H15: 1135
A16: 11 | B16: CYNTHIA | C16: BOOYSEN | D16: RCS GUGS | E16: 26:34 | F16: MW65 | G16: 4 | H16: 10387
A17: 12 | B17: JANE | C17: FULLER | D17: TSVOB | E17: 30:29 | F17: MW65 | G17: 4 | H17: 1252
A18: 13 | B18: VALERIE | C18: HENDRICKS | D18: SPARTAN HARRIERS | E18: 30:32 | F18: MW65 | G18: 4 | H18: 1098
A19: 14 | B19: G | C19: THOMPSON | D19: ITHEKO BRIMSTONE | E19: 30:36 | F19: MW65 | G19: 4 | H19: 299
B20: HABIBA | C20: RYKLIEF | D20: PINELANDS | E20: 37:07 | F20: MW65 | G20: 4 | H20: 2657

Sheet WOMEN 70+
A1: ='Cover Page'!A2 -> CROSS COUNTRY LEAGUE 1 - SILVERSTREAM RESORT
A2: ='Cover Page'!A3 -> 45794
A3: Master Women 70+ 4km
A5: POSITION | B5: FIRST NAME | C5: SURNAME | D5: CLUB | E5: TIME | F5: RACE | G5: Km | H5: LICENCE NO
A6: 1 | B6: NANCY | C6: WILL | D6: PINELANDS | E6: 20:33 | F6: MW70 | G6: 4 | H6: 2652
A7: 2 | B7: JUDITH | C7: GROVE | D7: TYGERBURG AC | E7: 23:31 | F7: MW70 | G7: 4 | H7: 4181
A8: 3 | B8: MAUREEN | C8: VERSTER | D8: EDGEMEAD RUNNERS | E8: 23:51 | F8: MW70 | G8: 4 | H8: 3352
A9: 4 | B9: HELEN | C9: DU PLESSIS | D9: BRACKENFELL AC | E9: 27:03 | F9: MW70 | G9: 4 | H9: 4274
A10: 5 | B10: THENESA | C10: JORDAAN | D10: TSVOB | E10: 27:12 | F10: MW70 | G10: 4 | H10: 1552
A11: 6 | B11: RAYMUNDE | C11: RAYMIZON | D11: CELTIC | E11: 27:45 | F11: MW70 | G11: 4 | H11: 3710
A12: 7 | B12: SARAH | C12: HERDIEN | D12: VELOCITY | E12: 29:36 | F12: MW70 | G12: 4 | H12: 131214
A13: 8 | B13: MARLENE | C13: JAMES | D13: PINELANDS | E13: 30:21 | F13: MW70 | G13: 4 | H13: 2644
A14: 9 | B14: JUDY | C14: COLLINS | D14: TSVOB | E14: 30:23 | F14: MW70 | G14: 4 | H14: 1285
A15: 10 | B15: JOY | C15: RIVIERA | D15: SPARTAN HARRIERS | E15: 31:46 | F15: MW70 | G15: 4 | H15: 754
A16: 11 | B16: PIXIE | C16: SPARG | D16: CELTICS | E16: 33:37 | F16: MW70 | G16: 4 | H16: 3881
A17: 12 | B17: UNITA | C17: VAN VUUREN | D17: SPARTAN HARRIERS | E17: 33:55 | F17: MW70 | G17: 4 | H17: 1048
... A20: 15 | B20: M | C20: HARRISON | D20: FISHHOEK | E20: 38:44 | F20: MW70 | G20: 4 | H20: 18486

Sheet MOB
A1: ='Cover Page'!A2 -> CROSS COUNTRY LEAGUE 1 - SILVERSTREAM RESORT
A2: ='Cover Page'!A3 -> 45794
A3: MOB Race
A5: POSITION | B5: FIRST NAME | C5: SURNAME | D5: CLUB | E5: TIME | F5: RACE | G5: Km
A6: 1 | B6: BLESSING | C6: MAPOABO | D6: EASTERNS KRAAIFONTEIN | E6: 0.55694444 | F6: MOB | G6: 4
A7: 2 | B7: SAGINI | C7: TITUS | D7: CELTIC H | E7: 0.55972222 | F7: MOB | G7: 4 | H7: P3893
A8: 3 | B8: CHARLES | C8: CHIKANSA | D8: EASTERNS KRAAIFONTEIN | E8: 0.66319444 | F8: MOB | G8: 4 | H8: P16312
A9: 4 | B9: JACK | C9: SITARIKO | D9: EASTERNS KRAAIFONTEIN | E9: 0.68958333 | F9: MOB | G9: 4
A10: 5 | B10: GLODY | C10: MUTONJI | E10: 0.69027778 | F10: MOB | G10: 4
A11: 6 | B11: BARRY-JOHN | C11: PIENAAR | D11: KUILSRIVIER | E11: 0.69444444 | F11: MOB | G11: 4 | H11: 2051
A12: 7 | B12: OFENTSE | C12: MOLOTO | D12: NORTHLINK | E12: 0.69513889 | F12: MOB | G12: 4
A13: 8 | B13: JAYDEN | C13: VAN ROOI | D13: WCIR | E13: 0.71736111 | F13: MOB | G13: 4 | H13: J40743
A14: 9 | B14: ENRICO | C14: LOUW | D14: NEDBANK | E14: 0.71805556 | F14: MOB | G14: 4 | H14: 41219
A15: 10 | B15: NATHAN | E15: 0.73055556 | F15: MOB | G15: 4
A16: 11 | B16: MORRIS | C16: NYALUNGU | D16: NORTHLINK | E16: 0.74097222 | F16: MOB | G16: 4
A17: 12 | B17: NEIL | C17: HERMANN | D17: AAC | E17: 0.74166667 | F17: MOB | G17: 4 | H17: 11803
A18: 13 | B18: TIM | C18: LOW | D18: TSVOB | E18: 0.74861111 | F18: MOB | G18: 4 | H18: 1402
A19: 14 | B19: GAVIN | C19: PETERSEN | D19: INDIVIDUAL | E19: 0.76736111 | F19: MOB | G19: 4
A20: 15 | B20: WERNER | C20: ERASMUS | E20: 0.77291667 | F20: MOB | G20: 4
A21: 16 | B21: ZANE | C21: VAN ZYL | D21: WESTCOAST | E21: 0.78680556 | F21: MOB | G21: 4 | H21: 6660
A22: 17 | B22: LIKUWE | C22: TSHALI | D22: UWC | E22: 0.84027778 | F22: MOB | G22: 4
A23: 18 | B23: ALASTAIR | C23: RADLOFF | D23: WCAC | E23: 0.84652778 | F23: MOB | G23: 4 | H23: 6714
A24: 19 | B24: GEORGES | C24: TSHILENGE | D24: EDGEMEAD | E24: 0.87638889 | F24: MOB | G24: 4 | H24: J40215
A25: 20 | B25: TARRYN | C25: PRIOR | D25: EDGEMEAD | E25: 0.87847222 | F25: MOB | G25: 4 | H25: 3232
A26: 21 | B26: MACKENZIE | C26: SMIT | D26: VANRIEBEECKSTAND | E26: 0.89097222 | F26: MOB | G26: 4 | H26: J40577
A27: 22 | B27: LEAH | C27: STEMMET | D27: VANRIEBEECKSTAND | E27: 0.89166667 | F27: MOB | G27: 4
A28: 23 | B28: LAMBERT | C28: GREEFF | D28: FISHHOEK | E28: 0.89722222 | F28: MOB | G28: 4 | H28: 6291
A29: 24 | B29: KIEVERN | C29: FURNES | D29: FISHHOEK | E29: 0.89791667 | F29: MOB | G29: 4 | H29: 6286
A30: 25 | B30: JABEZ | C30: MITCHELL | D30: EDGEMEAD | E30: 0.90416667 | F30: MOB | G30: 4 | H30: 14162
A31: 26 | B31: EBER | C31: CALLOP | D31: EDGEMEAD | E31: 0.91944444 | F31: MOB | G31: 4 | H31: 3163
A32: 27 | B32: GARETH | C32: KNOTT | D32: EDGEMEAD | E32: 0.92152778 | F32: MOB | G32: 4 | H32: 3165
A33: 28 | B33: ASHLEY | C33: JOHNSON | D33: EASTERNS KRAAIFONTEIN | E33: 0.92222222 | F33: MOB | G33: 4 | H33: 7623
A34: 29 | B34: YOLANDA | C34: WILSON | D34: EASTERNS KRAAIFONTEIN | E34: 22:16 | F34: MOB | G34: 4 | H34: P7618
A35: 30 | B35: BRIAN | C35: VAN WYK | D35: EDGEMEAD | E35: 0.93263889 | F35: MOB | G35: 4 | H35: 3399
A36: 31 | B36: JASON | C36: DUFF | D36: EDGEMEAD | E36: 22:3O | F36: MOB | G36: 4 | H36: 3145
A37: 32 | B37: J | C37: JACOBS | D37: CELTIC H | E37: 0.93888889 | F37: MOB | G37: 4 | H37: 4126
A38: 33 | B38: GLENN | C38: MULLER | D38: CELTIC H | E38: 0.93888889 | F38: MOB | G38: 4 | H38: 4000
A39: 34 | B39: CONNNOR | C39: ECKELTON | D39: KUILSRIVIER | E39: 0.95763889 | F39: MOB | G39: 4 | H39: 40025
A40: 35 | B40: SIVENATHI | C40: DEPI | D40: NORTHLINK | E40: 0.96875 | F40: MOB | G40: 4
A41: 36 | B41: ALIA | C41: MAPIPI | D41: NORTHLINK | E41: 0.97013889 | F41: MOB | G41: 4
A42: 37 | B42: NO | C42: CARD | E42: 0.97152778 | F42: MOB | G42: 4
A43: 38 | B43: BEN | C43: PRIOR | D43: EDGEMEAD | E43: 0.98055556 | F43: MOB | G43: 4 | H43: 3131
A44: 39 | B44: NICOLETTE | C44: FURNES | D44: FISHHOEK | E44: 0.98888889 | F44: MOB | G44: 4 | H44: P6285
A45: 40 | B45: TREVOR | C45: ECKELTON | D45: KUILSRIVIER | E45: 0.99166667 | F45: MOB | G45: 4 | H45: 2021
A46: 41 | B46: LIONEL | C46: ATSON | D46: MP TITANS | E46: 1.0006944 | F46: MOB | G46: 4 | H46: T18494
A47: 42 | B47: CHRISTIAAN | C47: VAN ROOYEN | D47: BOXER AC | E47: 1.0041667 | F47: MOB | G47: 4
A48: 43 | B48: QUEREN | C48: JACOBS | D48: NORTHLINK | E48: 1.0145833 | F48: MOB | G48: 4
A49: 44 | B49: RICHARD | C49: VAN SCHALWYK | D49: EDGEMEAD | E49: 1.01875 | F49: MOB | G49: 4 | H49: 3302
A50: 45 | B50: CHA-THALIA | C50: WILLEMSE | D50: VELOCITY | E50: 1.0222222 | F50: MOB | G50: 4 | H50: 40715
A51: 46 | B51: CECILIA | D51: NANTES | E51: 1.0256944 | F51: MOB | G51: 4 | H51: 5557
A52: 47 | B52: FELICIA | C52: HUGO | D52: NANTES | E52: 1.0284722 | F52: MOB | G52: 4 | H52: 5556
A53: 48 | B53: MEROLD | C53: HIEBNER | D53: SPARTANS | E53: 1.0291667 | F53: MOB | G53: 4 | H53: 1134
A54: 49 | B54: MERSHELLE | C54: JOHNSON | D54: EASTERNS KRAAIFONTEIN | E54: 1.0305556 | F54: MOB | G54: 4 | H54: 7622
A55: 50 | B55: W. | C55: MITCHELL | D55: EASTERNS KRAAIFONTEIN | E55: 1.03125 | F55: MOB | G55: 4 | H55: 7650
A56: 51 | B56: CHANNING | C56: EDWINS | D56: EASTERNS KRAAIFONTEIN | E56: 1.0326389 | F56: MOB | G56: 4 | H56: P7629
A57: 52 | B57: KIM | C57: EVEZARD | D57: EDGEMEAD | E57: 1.0416667 | F57: MOB | G57: 4 | H57: 3514
A58: 53 | B58: MATTHEW | C58: DE KOCK | D58: CELTIC H | E58: 1.0458333 | F58: MOB | G58: 4 | H58: P4004
A59: 54 | B59: CHANE | C59: OCTOBER | D59: CASUARINA | E59: 1.0548611 | F59: MOB | G59: 4 | H59: 16851
A60: 55 | B60: AMALIA | C60: VAN WYK | D60: EDGEMEAD | E60: 1.0604167 | F60: MOB | G60: 4 | H60: 3398
A61: 56 | B61: HILARY | C61: RHODE | D61: EDGEMEAD | E61: 1.0763889 | F61: MOB | G61: 4 | H61: 3256
A62: 57 | B62: SISIPHO | C62: JUBA | D62: RCS GUGS | E62: 1.08125 | F62: MOB | G62: 4 | H62: J40924
A63: 58 | B63: GLENDA | C63: HENSLEY | D63: FISHHOEK | E63: 1.0888889 | F63: MOB | G63: 4 | H63: 6303
A64: 59 | B64: HORST | C64: SCHIFFER | D64: FISHHOEK | E64: 1.1048611 | F64: MOB | G64: 4 | H64: 6410
A65: 60 | B65: NEVILLE | C65: FRIESLICH | D65: FISHHOEK | E65: 1.1104167 | F65: MOB | G65: 4 | H65: 6283
A66: 61 | B66: PATRICK | C66: ANDRIES | D66: EDGEMEAD | E66: 1.1194444 | F66: MOB | G66: 4 | H66: 3331
A67: 62 | B67: MICHEAL | C67: TOLL | D67: ITHEKO | E67: 1.1263889 | F67: MOB | G67: 4 | H67: 599
A68: 63 | B68: SALLY | C68: RUPARE | D68: FISHHOEK | E68: 1.1347222 | F68: MOB | G68: 4 | H68: 6447
A69: 64 | B69: ROSE | C69: SUTAIFFE | D69: CELTIC H | E69: 1.1402778 | F69: MOB | G69: 4 | H69: 3888
A70: 65 | B70: EDWARD | C70: ADONIS | D70: EASTERNS KRAAIFONTEIN | E70: 1.1472222 | F70: MOB | G70: 4
A71: 66 | B71: TANIA | C71: ROSSER | D71: GENE LOUW STAFF | E71: 1.1472222 | F71: MOB | G71: 4
A72: 67 | B72: MERVYN | C72: MATALIC | D72: CELTIC H | E72: 1.1486111 | F72: MOB | G72: 4 | H72: 3711
A73: 68 | B73: NEIL | C73: HOPKINS | D73: CELTIC H | E73: 1.1506944 | F73: MOB | G73: 4 | H73: 3663
A74: 69 | B74: NICOLE | C74: HANNAH | D74: EDGEMEAD | E74: 1.1534722 | F74: MOB | G74: 4 | H74: 3467
A75: 70 | B75: HENRY | C75: TSHILENGE | D75: EDGEMEAD | E75: 1.1548611 | F75: MOB | G75: 4 | H75: 3277
A76: 71 | B76: BAILEY | C76: SCHUIN | D76: EDGEMEAD | E76: 1.1631944 | F76: MOB | G76: 4 | H76: J40221
A77: 72 | B77: LODEWYK | C77: JANUARIE | D77: RAVENSMEAD | E77: 1.1645833 | F77: MOB | G77: 4 | H77: 8485
A78: 73 | B78: FLORENCE | C78: GROENER | D78: DURBAC | E78: 1.1694444 | F78: MOB | G78: 4 | H78: 7266
A79: 74 | B79: YVETTE | C79: RIJNSBURGER | D79: EDGEMEAD | E79: 1.1701389 | F79: MOB | G79: 4 | H79: 3434
A80: 75 | B80: MATILDA | C80: KILLIAN | D80: FISHHOEK | E80: 1.1770833 | F80: MOB | G80: 4 | H80: 6418
A81: 76 | B81: INGRID | C81: WAMINGTON | D81: FISHHOEK | E81: 1.1777778 | F81: MOB | G81: 4 | H81: 6417
A82: 77 | B82: DENEEZE | C82: FRITZ | D82: EDGEMEAD | E82: 1.1791667 | F82: MOB | G82: 4 | H82: 3181
A83: 78 | B83: NICOLETTE | C83: VAN SCHALWYK | D83: EDGEMEAD | E83: 1.1798611 | F83: MOB | G83: 4 | H83: 3303
A84: 79 | B84: CHERYL | C84: ARENDSE | D84: HEWAT | E84: 1.1840278 | F84: MOB | G84: 4 | H84: 12501
A85: 80 | B85: NEIL | C85: ARENSE | D85: HEWAT | E85: 1.1875 | F85: MOB | G85: 4 | H85: 12502
A86: 81 | B86: MORNAY | C86: VAN WYK | D86: EDGEMEAD | E86: 1.2020833 | F86: MOB | G86: 4 | H86: 3397
A87: 82 | B87: NILAH | C87: MEYER | D87: VELOCITY | E87: 1.2020833 | F87: MOB | G87: 4 | H87: 40727
A88: 83 | B88: MARYKE | C88: COLLINS | D88: EDGEMEAD | E88: 1.2076389 | F88: MOB | G88: 4 | H88: 3112
... A90: 85 | B90: RASHID | C90: CLOETE | D90: HEWAT | E90: 1.2145833 | F90: MOB | G90: 4 | H90: 12485
A91: 86 | B91: CHARLENE | C91: TOLL | E91: 1.2152778 | F91: MOB | G91: 4
A92: 87 | B92: ELLANAH | C92: DEELIE | D92: EASTERNS KRAAIFONTEIN | E92: 1.2222222 | F92: MOB | G92: 4 | H92: 7615
A93: 88 | B93: ROCHEN | C93: DEELIE | D93: EASTERNS KRAAIFONTEIN | E93: 1.2236111 | F93: MOB | G93: 4 | H93: 7626
A94: 89 | B94: TYSHIA | C94: JOHANNES | D94: RCS GUGS | E94: 1.2256944 | F94: MOB | G94: 4 | H94: 10449
A95: 90 | B95: JOHN | C95: FORTUIN | D95: BELLVILLE | E95: 1.2284722 | F95: MOB | G95: 4 | H95: 13821
A96: 91 | B96: ELIZABETH | C96: SMAL | D96: BELLVILLE | E96: 1.2340278 | F96: MOB | G96: 4 | H96: 15501
A97: 92 | B97: BULEWA | C97: SIMAE | E97: 1.2347222 | F97: MOB | G97: 4
A98: 93 | B98: SARON | D98: VELOCITY | E98: 1.2451389 | F98: MOB | G98: 4 | H98: 13214
A99: 94 | B99: ASHWIN | C99: THOMPSON | D99: FISHHOEK | E99: 1.25625 | F99: MOB | G99: 4 | H99: T18487
A100: 95 | B100: LYNETTE | C100: KING | D100: WCAC | E100: 1.2708333 | F100: MOB | G100: 4 | H100: 6789
A101: 96 | B101: AIDEN | C101: ALEX | D101: MP TITANS | E101: 1.2777778 | F101: MOB | G101: 4 | H101: T18495
A102: 97 | B102: JUAN | C102: WIESE | D102: CARBINEERS | E102: 1.2791667 | F102: MOB | G102: 4 | H102: 5025
...
